BEGIN:VCALENDAR
VERSION:2.0
PRODID:-//Saint Paul&#039;s Church Augusta, GA - ECPv6.13.2.1//NONSGML v1.0//EN
CALSCALE:GREGORIAN
METHOD:PUBLISH
X-ORIGINAL-URL:https://saintpauls.org
X-WR-CALDESC:Events for Saint Paul&#039;s Church Augusta, GA
REFRESH-INTERVAL;VALUE=DURATION:PT1H
X-Robots-Tag:noindex
X-PUBLISHED-TTL:PT1H
BEGIN:VTIMEZONE
TZID:America/New_York
BEGIN:DAYLIGHT
TZOFFSETFROM:-0500
TZOFFSETTO:-0400
TZNAME:EDT
DTSTART:20190310T070000
END:DAYLIGHT
BEGIN:STANDARD
TZOFFSETFROM:-0400
TZOFFSETTO:-0500
TZNAME:EST
DTSTART:20191103T060000
END:STANDARD
END:VTIMEZONE
BEGIN:VEVENT
DTSTART;TZID=America/New_York:20190505T120000
DTEND;TZID=America/New_York:20190505T133000
DTSTAMP:20260424T001333
CREATED:20190427T182235Z
LAST-MODIFIED:20190505T200245Z
UID:8269-1557057600-1557063000@saintpauls.org
SUMMARY:Homecoming Lunch
DESCRIPTION:Saint Paul’s will be celebrating its 100th year Consecration of the Church and Homecoming on Sunday\, May 5th\, 2019. We will meet in the River Room following the 11 AM service to share a meal and greet old friends. Bring a dish or dessert that would have been served at a potluck 100 years ago! We look forward to fellowship\, food\, and fun! Questions\, Call Claudia Figueroa. \nAs always we need a team to help set up\, serve\, and clean up! Please sign up here.
URL:https://saintpauls.org/event/homecoming-lunch/
LOCATION:River Room at Saint Paul’s
CATEGORIES:100th Anniversary Celebration,All ages,Parish Life
END:VEVENT
BEGIN:VEVENT
DTSTART;TZID=America/New_York:20190505T110000
DTEND;TZID=America/New_York:20190505T121500
DTSTAMP:20260424T001333
CREATED:20190408T103134Z
LAST-MODIFIED:20190505T200241Z
UID:8055-1557054000-1557058500@saintpauls.org
SUMMARY:Rededication of the church and 100th Anniversary Celebration
DESCRIPTION:As the people of Saint Paul’s\, other parishes\, and the larger community came together to consecrate and dedicate our present church building 100 years ago\, so on May 5th at 11 AM\, we will gather to re-dedicate ourselves and our Church building to God’s glory and God’s purpose. \nThe service will include music from the 1919 service\, and portions of the service of Consecration of a Church. This is a great opportunity to invite former members\, old and new friends\, and all who have felt the impact of Saint Paul’s in their lives and the life of Augusta. \nPlan on being a part of this day as we give thanks for what we have been given by those who have come before us. \nThere is no 8:00 service on May 5th.
URL:https://saintpauls.org/event/holy-eucharist-rite-ii-55/
LOCATION:605 Reynolds St.\, Augusta\, GA\, 30901
CATEGORIES:100th Anniversary Celebration,Special Services,Worship Services
END:VEVENT
BEGIN:VEVENT
DTSTART;TZID=America/New_York:20190505T103000
DTEND;TZID=America/New_York:20190505T104500
DTSTAMP:20260424T001333
CREATED:20190427T182231Z
LAST-MODIFIED:20190505T200243Z
UID:8267-1557052200-1557053100@saintpauls.org
SUMMARY:Burial of Time Casule
DESCRIPTION:In researching the Consecration of the Church\, the History Committee discovered several time capsules had been buried at Saint Paul’s with the cornerstones.  In celebration of the re-dedication on May 5th\, a time capsule will be buried on the grounds of the church at 10:30 AM.\, in a ceremony conducted by three area Masonic Lodges: Social No. 1 F&AM\, Webb No. 166 F&AM\, and John S\, Davidson No. 677 F&AM. Social No. 1 ceremonially laid the cornerstone of Saint Paul’s Church in 1819. Social No. 1 & Webb No. 166 also laid the cornerstone of Saint Paul’s Church in 1916.  To learn more about these archive discoveries or about the new time capsule\, contact Jaime Figueroa.
URL:https://saintpauls.org/event/burial-of-time-casule/
LOCATION:605 Reynolds St.\, Augusta\, GA\, 30901
CATEGORIES:100th Anniversary Celebration,History
END:VEVENT
BEGIN:VEVENT
DTSTART;TZID=America/New_York:20190430T110000
DTEND;TZID=America/New_York:20190430T121500
DTSTAMP:20260424T001333
CREATED:20190430T202825Z
LAST-MODIFIED:20190430T202825Z
UID:8322-1556622000-1556626500@saintpauls.org
SUMMARY:Re-dedication of a Church and 100th Anniversary Celebration of Saint Paul's Church Consecration
DESCRIPTION:As the people of Saint Paul’s\, other parishes\, and the larger community came together to consecrate and dedicate our present church building 100 years ago\, so on May 5th at 11 AM\, we will gather to re-dedicate ourselves and our Church building to God’s glory and God’s purpose. Following the service we will gather in the River Room for a covered dish lunch. \nThe service will include music from the 1919 service\, and portions of the service of Consecration of a Church. This is a great opportunity to invite former members\, old and new friends\, and all who have felt the impact of Saint Paul’s in their lives and the life of Augusta. \nPlan on being a part of this day as we give thanks for what we have been given by those who have come before us.
URL:https://saintpauls.org/event/re-dedication-of-a-church-and-100th-anniversary-celebration-of-saint-pauls-church-consecration/
LOCATION:605 Reynolds St.\, Augusta\, GA\, 30901
CATEGORIES:100th Anniversary Celebration,Special Services,Worship Services
END:VEVENT
END:VCALENDAR