BEGIN:VCALENDAR
VERSION:2.0
PRODID:-//Saint Paul&#039;s Church Augusta, GA - ECPv6.13.2.1//NONSGML v1.0//EN
CALSCALE:GREGORIAN
METHOD:PUBLISH
X-ORIGINAL-URL:https://saintpauls.org
X-WR-CALDESC:Events for Saint Paul&#039;s Church Augusta, GA
REFRESH-INTERVAL;VALUE=DURATION:PT1H
X-Robots-Tag:noindex
X-PUBLISHED-TTL:PT1H
BEGIN:VTIMEZONE
TZID:America/New_York
BEGIN:DAYLIGHT
TZOFFSETFROM:-0500
TZOFFSETTO:-0400
TZNAME:EDT
DTSTART:20180311T070000
END:DAYLIGHT
BEGIN:STANDARD
TZOFFSETFROM:-0400
TZOFFSETTO:-0500
TZNAME:EST
DTSTART:20181104T060000
END:STANDARD
BEGIN:DAYLIGHT
TZOFFSETFROM:-0500
TZOFFSETTO:-0400
TZNAME:EDT
DTSTART:20190310T070000
END:DAYLIGHT
BEGIN:STANDARD
TZOFFSETFROM:-0400
TZOFFSETTO:-0500
TZNAME:EST
DTSTART:20191103T060000
END:STANDARD
BEGIN:DAYLIGHT
TZOFFSETFROM:-0500
TZOFFSETTO:-0400
TZNAME:EDT
DTSTART:20200308T070000
END:DAYLIGHT
BEGIN:STANDARD
TZOFFSETFROM:-0400
TZOFFSETTO:-0500
TZNAME:EST
DTSTART:20201101T060000
END:STANDARD
END:VTIMEZONE
BEGIN:VEVENT
DTSTART;TZID=America/New_York:20200614T093000
DTEND;TZID=America/New_York:20200614T103000
DTSTAMP:20260424T185355
CREATED:20200531T203406Z
LAST-MODIFIED:20200918T204405Z
UID:13764-1592127000-1592130600@saintpauls.org
SUMMARY:Summer Gatherings with Godly Play
DESCRIPTION:SUMMER GATHERINGS WITH GODLY PLAY- Children through 5th grade\nLeader: Kim Butler and Ivey Coleman\nAudience: Children through 5th grade\nWhen: Sunday\, 9:30 AM\, conclude by 10:30 AM\n\n\nLocation: Join Zoom \nOR from Zoom App\, Meeting ID: 366 090 592\n\nPASSWORD: Email Maddy Elledge to request\n\n\n\nThis gathering will be a relaxed time where we have the chance to connect and talk with each other\, share a story or activity\, sing\, and pray together. We will continue to meet at our regular formation time\, Sunday mornings at 9:30 a.m. and you can join us by using the same link and password that we have been using each week. See you Sunday!
URL:https://saintpauls.org/event/godly-play-2-2020-06-14/
LOCATION:605 Reynolds St.\, Augusta\, GA\, 30901
CATEGORIES:Children,Christian Formation,Church on-line
ATTACH;FMTTYPE=image/png:https://saintpauls.org/wp-content/uploads/2020/05/Hello-Summer-Gatherings-1-compressed.png
END:VEVENT
BEGIN:VEVENT
DTSTART;TZID=America/New_York:20200415T180000
DTEND;TZID=America/New_York:20200415T190000
DTSTAMP:20260424T185355
CREATED:20200411T221743Z
LAST-MODIFIED:20200522T221855Z
UID:13241-1586973600-1586977200@saintpauls.org
SUMMARY:Canterbury Choir - Just for fun Drop-In
DESCRIPTION:Join Zoom\nOR from Zoom App\, Meeting ID: 859 002 714\nOR phone-in: (646) 876-9923\n\nPASSWORD: Email Maddy Elledge to request.\n\n\n\n\n\n\n\n\n\n\n\n\n\n\n\nJust for fun\, the Canterbury choir is gathering online to catch up and connect with each at their regular rehearsal time\, Wednesdays at 6 p.m.
URL:https://saintpauls.org/event/canterbury-choir-just-for-fun-drop-in/
LOCATION:605 Reynolds St.\, Augusta\, GA\, 30901
CATEGORIES:Children,Parish Life,Youth
ATTACH;FMTTYPE=image/png:https://saintpauls.org/wp-content/uploads/2020/04/Canterbury-Choir-1-e1586555416342.png
END:VEVENT
BEGIN:VEVENT
DTSTART;TZID=America/New_York:20191222T120000
DTEND;TZID=America/New_York:20191222T123000
DTSTAMP:20260424T185355
CREATED:20191217T053746Z
LAST-MODIFIED:20191222T071052Z
UID:10707-1577016000-1577017800@saintpauls.org
SUMMARY:Children's reception
DESCRIPTION:Join us following the 11 AM service for a special reception hosted by our children and their families.  We will have a hot chocolate bar as well as finger foods.  This is the perfect time to tell your favorite little “Friendly Beasts” what a joy it is to share moments like this with them!
URL:https://saintpauls.org/event/childrens-reception/
LOCATION:605 Reynolds St.\, Augusta\, GA\, 30901
CATEGORIES:Advent,All ages,Children,Parish Life
END:VEVENT
BEGIN:VEVENT
DTSTART;TZID=America/New_York:20191222T110000
DTEND;TZID=America/New_York:20191222T120000
DTSTAMP:20260424T185355
CREATED:20191209T032249Z
LAST-MODIFIED:20191218T181509Z
UID:10605-1577012400-1577016000@saintpauls.org
SUMMARY:Children's Advent Liturgy
DESCRIPTION:“The Friendly Beasts” – Journey to Bethlehem: Preparing ourHearts and Minds for the Mystery of Christmas \nOur Saint Paul’s Family is invited to share our journey during our program\, “The Friendly Beasts” that will be part of our 11 AM service on Sunday\, December 22 (Advent 4). Coleman Graham\, one of our formation teachers\, has written the story narrative that we will share. It was inspired by Sufjan Steven’s song\, “The Friendly Beasts”\, which will be performed during the program. We have four soloists from the youth program and Jay Bentley\, one of our Saint Paul’s youth\, will play the guitar. The”Friendly Beasts” tells the story of the journey to Bethlehem and reflects the Advent stories we are sharing each week. We are brought to this story through the eyes of the animals who surrounded the Holy Family and shared the gifts they had to give with such abundance. Our children are making this journey each week in our time together and on Sunday\, December 22\, you are all invited to travel with us. \nAll children 3 years and older are invited to be a part of this program.We gather on Sunday mornings from 9:30 to 10:30 AM in the Children’s Ministry Building each Sunday during Advent: December 1-22. We spend the first part of our time together sharing our Advent story. We will then gather all ages together to prepare our program.This is a beautiful opportunity for the children to come together for our journey to Bethlehem.
URL:https://saintpauls.org/event/childrens-advent-liturgy/
LOCATION:605 Reynolds St.\, Augusta\, GA\, 30901
CATEGORIES:Advent,Children,Christian Formation,Special Services
END:VEVENT
BEGIN:VEVENT
DTSTART;TZID=America/New_York:20190421T100000
DTEND;TZID=America/New_York:20190421T101500
DTSTAMP:20260424T185355
CREATED:20190409T200503Z
LAST-MODIFIED:20190409T200503Z
UID:8092-1555840800-1555841700@saintpauls.org
SUMMARY:Annual Easter Egg Hunt
DESCRIPTION:The Annual Easter Egg Hunt on the Lawn immediately follows the 9 AM service.  We will meet on the front steps for the annual picture prior to dividing into groups by age for the hunt. Don’t forget your basket!
URL:https://saintpauls.org/event/annual-easter-egg-hunt/
LOCATION:GA\, United States
CATEGORIES:Children,Easter,Parish Life
ATTACH;FMTTYPE=image/png:https://saintpauls.org/wp-content/uploads/2019/04/Easter-Egg-Hunt-2018.png
END:VEVENT
BEGIN:VEVENT
DTSTART;TZID=America/New_York:20190224T120000
DTEND;TZID=America/New_York:20190224T133000
DTSTAMP:20260424T185355
CREATED:20190130T181601Z
LAST-MODIFIED:20190130T181601Z
UID:7465-1551009600-1551015000@saintpauls.org
SUMMARY:"Share your Chili Sunday"
DESCRIPTION:February is the perfect time for a chili lunch! The Parish Life Committee invites you to bring your favorite chili to church on Sunday\, February 24\, unofficially “Share Your Chili Sunday.” We’ll meet in the River Room with friends following the 11 AM service to taste some of the best chili Saint Paul’s has to offer. Whether it is beef chili\, chicken chili\, veggie chili\, spicy or mild\, we love it all. If chili is not your specialty\, no worries\, bring a topping\, side\, or dessert. We look forward to fellowship\, food\, and fun!  Questions\, contact Todd Shafer. \nAs always we need a team to help set up\, serve\, and clean up.  Please sign up here.
URL:https://saintpauls.org/event/share-your-chili-sunday/
LOCATION:605 Reynolds St.\, Augusta\, GA\, 30901
CATEGORIES:Adult,All ages,Children,Parish Life,Young Adult,Youth
END:VEVENT
BEGIN:VEVENT
DTSTART;TZID=America/New_York:20181230T093000
DTEND;TZID=America/New_York:20181230T103000
DTSTAMP:20260424T185355
CREATED:20181203T012851Z
LAST-MODIFIED:20181230T091620Z
UID:6926-1546162200-1546165800@saintpauls.org
SUMMARY:Christian Formation Classes for All Ages
DESCRIPTION:Find your place. Our formation programs offer a time and place for every age to be formed in the Christian faith. Formation is a valuable way to enliven your faith and come to see the meaning of the Good News in community. Much of the work of the Holy Spirit in formation is in forming relationships.  We invite you to join us Sundays at 9:30 AM. The full complement of formation offerings is available here.
URL:https://saintpauls.org/event/christian-formation-classes-for-all-ages-23/
LOCATION:605 Reynolds St.\, Augusta\, GA\, 30901
CATEGORIES:Adult,Children,Christian Formation,Youth
END:VEVENT
BEGIN:VEVENT
DTSTART;TZID=America/New_York:20181224T150000
DTEND;TZID=America/New_York:20181224T154500
DTSTAMP:20260424T185355
CREATED:20181214T232743Z
LAST-MODIFIED:20181214T233026Z
UID:7096-1545663600-1545666300@saintpauls.org
SUMMARY:The Mystery of Christmas: a very special Godly Play Event
DESCRIPTION:Before the 4:00 pm Christmas Eve service\, all children\, parents\, grandparents and those interested are warmly invited to hear a very\, very special Godly Play story\, The Mystery of Christmas. Come and revel in the whole story of the mystery that we celebrate at Christmastide beautifully told. Meet in the CHAPEL. Heavy snacks for all ages — PB&J\, cheese & crackers\, cookies.\,Questions? Contact Fr. Jenkins (jjenkins@saintpauls.org)  or Kim Butler (kimberlyybutler@gmail.com).
URL:https://saintpauls.org/event/the-mystery-of-christmas-a-very-special-godly-play-event/
LOCATION:605 Reynolds St.\, Augusta\, GA\, 30901
CATEGORIES:Children,Christian Formation,Christmas,Special Services
END:VEVENT
BEGIN:VEVENT
DTSTART;TZID=America/New_York:20181223T110000
DTEND;TZID=America/New_York:20181223T120000
DTSTAMP:20260424T185355
CREATED:20181207T224038Z
LAST-MODIFIED:20181207T224038Z
UID:7034-1545562800-1545566400@saintpauls.org
SUMMARY:Children's Liturgy for Christmas Eve
DESCRIPTION:Our children will hold the “Children’s Liturgy for Christmas Eve” on the last Sunday of Advent\, December 23. During our 11 AM service\, the children will process and place each figure and piece of our parish Nativity to help our church prepare to celebrate Christmas. Throughout Advent\, the children are gathering to practice and then reflect on the sacred story of God’s coming into the world. Repeatedly\, we share with them that the adults of the parish so love and cherish them that they have asked the children to do this incredibly special and important act of service during worship. We honor them by this important work!
URL:https://saintpauls.org/event/childrens-liturgy-for-christmas-eve/
LOCATION:605 Reynolds St.\, Augusta\, GA\, 30901
CATEGORIES:Children,Special Services,Worship Services
END:VEVENT
BEGIN:VEVENT
DTSTART;TZID=America/New_York:20181223T093000
DTEND;TZID=America/New_York:20181223T103000
DTSTAMP:20260424T185355
CREATED:20181126T234405Z
LAST-MODIFIED:20181223T062348Z
UID:6889-1545557400-1545561000@saintpauls.org
SUMMARY:Christian Formation Classes for All Ages
DESCRIPTION:Find your place. Our formation programs offer a time and place for every age to be formed in the Christian faith. Formation is a valuable way to enliven your faith and come to see the meaning of the Good News in community. Much of the work of the Holy Spirit in formation is in forming relationships.  We invite you to join us Sundays at 9:30 AM. The full complement of formation offerings is available here.
URL:https://saintpauls.org/event/christian-formation-classes-for-all-ages-22/
LOCATION:605 Reynolds St.\, Augusta\, GA\, 30901
CATEGORIES:Adult,Children,Christian Formation,Youth
END:VEVENT
BEGIN:VEVENT
DTSTART;TZID=America/New_York:20181216T093000
DTEND;TZID=America/New_York:20181216T103000
DTSTAMP:20260424T185355
CREATED:20181119T210736Z
LAST-MODIFIED:20181216T050325Z
UID:6821-1544952600-1544956200@saintpauls.org
SUMMARY:Christian Formation Classes for All Ages
DESCRIPTION:Find your place. Our formation programs offer a time and place for every age to be formed in the Christian faith. Formation is a valuable way to enliven your faith and come to see the meaning of the Good News in community. Much of the work of the Holy Spirit in formation is in forming relationships.  We invite you to join us Sundays at 9:30 AM. The full complement of formation offerings is available here.
URL:https://saintpauls.org/event/christian-formation-classes-for-all-ages-21/
LOCATION:605 Reynolds St.\, Augusta\, GA\, 30901
CATEGORIES:Adult,Children,Christian Formation,Youth
END:VEVENT
BEGIN:VEVENT
DTSTART;TZID=America/New_York:20181209T093000
DTEND;TZID=America/New_York:20181209T103000
DTSTAMP:20260424T185355
CREATED:20181111T185539Z
LAST-MODIFIED:20181209T034652Z
UID:6746-1544347800-1544351400@saintpauls.org
SUMMARY:Christian Formation Classes for All Ages
DESCRIPTION:Find your place. Our formation programs offer a time and place for every age to be formed in the Christian faith. Formation is a valuable way to enliven your faith and come to see the meaning of the Good News in community. Much of the work of the Holy Spirit in formation is in forming relationships.  We invite you to join us Sundays at 9:30 AM. The full complement of formation offerings is available here.
URL:https://saintpauls.org/event/christian-formation-classes-for-all-ages-20/
LOCATION:605 Reynolds St.\, Augusta\, GA\, 30901
CATEGORIES:Adult,Children,Christian Formation,Youth
END:VEVENT
BEGIN:VEVENT
DTSTART;TZID=America/New_York:20181208T093000
DTEND;TZID=America/New_York:20181208T113000
DTSTAMP:20260424T185355
CREATED:20181207T220902Z
LAST-MODIFIED:20181207T220902Z
UID:7013-1544261400-1544268600@saintpauls.org
SUMMARY:Angel Tree Breakfast & Celebration
DESCRIPTION:Make plans to join us for the annual Angel Tree Breakfast Party\, Saturday\, December 8\, 9:30 AM in Tyler Hall. We will enjoy a delicious home-cooked breakfast and celebrate with cookie decorating\, story time\, live music\, and lots of fun and fellowship. There are many ways to get involved\, and we welcome volunteers of all ages and abilities! Please contact Kim Butler  for more information or to volunteer.Be sure to join us for this beloved Saint Paul’s Tradition.
URL:https://saintpauls.org/event/angel-tree-breakfast-celebration/
LOCATION:605 Reynolds St.\, Augusta\, GA\, 30901
CATEGORIES:Adult,Children,Outreach,Youth
END:VEVENT
END:VCALENDAR