BEGIN:VCALENDAR
VERSION:2.0
PRODID:-//Saint Paul&#039;s Church Augusta, GA - ECPv6.13.2.1//NONSGML v1.0//EN
CALSCALE:GREGORIAN
METHOD:PUBLISH
X-ORIGINAL-URL:https://saintpauls.org
X-WR-CALDESC:Events for Saint Paul&#039;s Church Augusta, GA
REFRESH-INTERVAL;VALUE=DURATION:PT1H
X-Robots-Tag:noindex
X-PUBLISHED-TTL:PT1H
BEGIN:VTIMEZONE
TZID:America/New_York
BEGIN:DAYLIGHT
TZOFFSETFROM:-0500
TZOFFSETTO:-0400
TZNAME:EDT
DTSTART:20200308T070000
END:DAYLIGHT
BEGIN:STANDARD
TZOFFSETFROM:-0400
TZOFFSETTO:-0500
TZNAME:EST
DTSTART:20201101T060000
END:STANDARD
END:VTIMEZONE
BEGIN:VEVENT
DTSTART;TZID=America/New_York:20200423T170000
DTEND;TZID=America/New_York:20200423T174500
DTSTAMP:20260425T123636
CREATED:20200417T215908Z
LAST-MODIFIED:20200417T215908Z
UID:13366-1587661200-1587663900@saintpauls.org
SUMMARY:Praying Together: Evening Prayer - Tutorial
DESCRIPTION:Location: Join Zoom\nOR from Zoom App\, Meeting ID: 595 177 454\nOR phone-in: (646) 876-9923\n\nPASSWORD: Email Maddy Elledge to request.\n\n\n\n\n\n\n\n\n\n\n\n\n\n\n\nPraying Together is a teaching series to help individuals grow in their understanding and practice of praying the daily prayer services of our church\, The Daily Office\, either privately or gathered online at appointed times. Our goals are to support everyone in deepening their daily prayer life and to grow a team of lay people who will lead service online on a rotation schedule. If you are interested in learning to lead prayer services\, please email Bill Ford for more information about the expectations and next steps.
URL:https://saintpauls.org/event/praying-together-evening-prayer-tutorial-2/
CATEGORIES:Christian Formation,Church on-line
ATTACH;FMTTYPE=image/png:https://saintpauls.org/wp-content/uploads/2020/04/Praying-Together-Tutorial-Evening-Prayer.png
END:VEVENT
BEGIN:VEVENT
DTSTART;TZID=America/New_York:20200422T120000
DTEND;TZID=America/New_York:20200422T123000
DTSTAMP:20260425T123636
CREATED:20200417T215430Z
LAST-MODIFIED:20200417T215430Z
UID:13362-1587556800-1587558600@saintpauls.org
SUMMARY:Praying Together: Noonday Prayer - Tutorial
DESCRIPTION:Location: Join Zoom\nOR from Zoom App\, Meeting ID: 595 177 454\nOR phone-in: (646) 876-9923\n\nPASSWORD: Email Maddy Elledge to request.\n\n\n\n\n\n\n\n\n\n\n\n\n\n\n\nPraying Together is a teaching series to help individuals grow in their understanding and practice of praying the daily prayer services of our church\, The Daily Office\, either privately or gathered online at appointed times. Our goals are to support everyone in deepening their daily prayer life and to grow a team of lay people who will lead service online on a rotation schedule. If you are interested in learning to lead prayer services\, please email Bill Ford for more information about the expectations and next steps.
URL:https://saintpauls.org/event/praying-together-noonday-prayer-tutorial/
CATEGORIES:Christian Formation,Church on-line
ATTACH;FMTTYPE=image/png:https://saintpauls.org/wp-content/uploads/2020/04/Praying-Together-Tutorial-Noonday-Prayer-2.png
END:VEVENT
BEGIN:VEVENT
DTSTART;TZID=America/New_York:20200419T142000
DTEND;TZID=America/New_York:20200419T164500
DTSTAMP:20260425T123636
CREATED:20200411T220502Z
LAST-MODIFIED:20200417T183209Z
UID:13216-1587306000-1587314700@saintpauls.org
SUMMARY:EfM - Sunday class
DESCRIPTION:EfM\, Education for Ministry\, developed by The School of Theology at Sewanee\, is a small-group program (12 member limit) of study and spiritual growth open to ALL people. Enrollment is between June and August for the following program year. Contact\, Suzanne Pursley-Crotteau\, or the clergy to have a full conversation.
URL:https://saintpauls.org/event/efm-sunday-class/
LOCATION:605 Reynolds St.\, Augusta\, GA\, 30901
CATEGORIES:Adult,Christian Formation,Church on-line
ATTACH;FMTTYPE=image/png:https://saintpauls.org/wp-content/uploads/2018/10/EfM-logo-1.png
END:VEVENT
BEGIN:VEVENT
DTSTART;TZID=America/New_York:20200419T110000
DTEND;TZID=America/New_York:20200419T120000
DTSTAMP:20260425T123636
CREATED:20200411T215841Z
LAST-MODIFIED:20200417T180657Z
UID:13192-1587294000-1587297600@saintpauls.org
SUMMARY:Sunday morning worship: The Holy Eucharist Rite 2
DESCRIPTION:Join us Sunday at 11 AM by Facebook Live or Radio while church gatherings are suspended at our Reynold’s Street Building.
URL:https://saintpauls.org/event/sunday-morning-worship-the-holy-eucharist-rite-2/
LOCATION:605 Reynolds St.\, Augusta\, GA\, 30901
CATEGORIES:Church on-line,Worship Services
ATTACH;FMTTYPE=image/jpeg:https://saintpauls.org/wp-content/uploads/2020/04/WaterlogueThumb.jpg
END:VEVENT
BEGIN:VEVENT
DTSTART;TZID=America/New_York:20200416T170000
DTEND;TZID=America/New_York:20200416T174500
DTSTAMP:20260425T123636
CREATED:20200411T204630Z
LAST-MODIFIED:20200411T221347Z
UID:13183-1587056400-1587059100@saintpauls.org
SUMMARY:Praying Together: Evening Prayer Tutorial
DESCRIPTION:Location: Join Zoom\nOR from Zoom App\, Meeting ID: 595 177 454\nOR phone-in: (646) 876-9923\n\nPASSWORD: Email Maddy Elledge to request.\n\n\n\n\n\n\n\n\n\n\n\n\n\n\n\nPraying Together is a teaching series to help individuals grow in their understanding and practice of praying the daily prayer services of our church\, The Daily Office\, either privately or gathered online at appointed times. Our goals are to support everyone in deepening their daily prayer life and to grow a team of lay people who will lead service online on a rotation schedule. If you are interested in learning to lead prayer services\, please email Bill Ford for more information about the expectations and next steps.
URL:https://saintpauls.org/event/praying-together-evening-prayer-tutorial/
LOCATION:605 Reynolds St.\, Augusta\, GA\, 30901
CATEGORIES:Christian Formation,Church on-line,Spiritual Practice
ATTACH;FMTTYPE=image/jpeg:https://saintpauls.org/wp-content/uploads/2020/04/4.jpg
END:VEVENT
BEGIN:VEVENT
DTSTART;TZID=America/New_York:20200415T193000
DTEND;TZID=America/New_York:20200415T195500
DTSTAMP:20260425T123636
CREATED:20200411T204156Z
LAST-MODIFIED:20200411T214334Z
UID:13174-1586979000-1586980500@saintpauls.org
SUMMARY:Praying Together: Compline Tutorial
DESCRIPTION:Location: Join Zoom\nOR from Zoom App\, Meeting ID: 595 177 454\nOR phone-in: (646) 876-9923\n\nPASSWORD: Email Maddy Elledge to request.\n\n\n\n\n\n\n\n\n\n\n\n\n\n\n\nPraying Together is a teaching series to help individuals grow in their understanding and practice of praying the daily prayer services of our church\, The Daily Office\, either privately or gathered online at appointed times. Our goals are to support everyone in deepening their daily prayer life and to grow a team of lay people who will lead service online on a rotation schedule. If you are interested in learning to lead prayer services\, please email Bill Ford for more information about the expectations and next steps.
URL:https://saintpauls.org/event/13174/
LOCATION:605 Reynolds St.\, Augusta\, GA\, 30901
CATEGORIES:Christian Formation,Church on-line,Spiritual Practice
ATTACH;FMTTYPE=image/jpeg:https://saintpauls.org/wp-content/uploads/2020/04/5.jpg
END:VEVENT
BEGIN:VEVENT
DTSTART;TZID=America/New_York:20200415T114500
DTEND;TZID=America/New_York:20200415T121500
DTSTAMP:20260425T123636
CREATED:20200411T201942Z
LAST-MODIFIED:20200413T143634Z
UID:13170-1586951100-1586952900@saintpauls.org
SUMMARY:Praying Together: Tutorial - Daily Devotions for Individuals and Families
DESCRIPTION:Location: Join Zoom\nOR from Zoom App\, Meeting ID: 595 177 454\nOR phone-in: (646) 876-9923\n\nPASSWORD: Email Maddy Elledge to request.\n\n\n\n\n\n\n\n\n\n\n\n\n\n\n\nPraying Together is a teaching series to help individuals grow in their understanding and practice of praying the daily prayer services of our church\, The Daily Office\, either privately or gathered online at appointed times. Our goals are to support everyone in deepening their daily prayer life and to grow a team of lay people who will lead service online on a rotation schedule. If you are interested in learning to lead prayer services\, please email Bill Ford for more information about the expectations and next steps.
URL:https://saintpauls.org/event/praying-together-tutorial-daily-devotions-for-individuals-and-families/
LOCATION:605 Reynolds St.\, Augusta\, GA\, 30901
CATEGORIES:Christian Formation,Church on-line,Spiritual Practice
ATTACH;FMTTYPE=image/png:https://saintpauls.org/wp-content/uploads/2020/04/Praying-Together-Tutorial-daily-devotions.png
END:VEVENT
BEGIN:VEVENT
DTSTART;TZID=America/New_York:20200414T123000
DTEND;TZID=America/New_York:20200414T150000
DTSTAMP:20260425T123636
CREATED:20200411T220840Z
LAST-MODIFIED:20200411T220840Z
UID:13234-1586867400-1586876400@saintpauls.org
SUMMARY:EfM - Tuesday class
DESCRIPTION:EfM\, Education for Ministry\, developed by The School of Theology at Sewanee\, is a small-group program (12 member limit) of study and spiritual growth open to ALL people. Enrollment is between June and August for the following program year. Contact\, Suzanne Pursley-Crotteau\, or the clergy to have a full conversation.
URL:https://saintpauls.org/event/efm-tuesday-class/
LOCATION:605 Reynolds St.\, Augusta\, GA\, 30901
CATEGORIES:Adult,Christian Formation,Church on-line
ATTACH;FMTTYPE=image/png:https://saintpauls.org/wp-content/uploads/2018/10/EfM-logo-1.png
END:VEVENT
BEGIN:VEVENT
DTSTART;TZID=America/New_York:20200414T090000
DTEND;TZID=America/New_York:20200414T094500
DTSTAMP:20260425T123636
CREATED:20200411T201316Z
LAST-MODIFIED:20200411T214532Z
UID:13158-1586854800-1586857500@saintpauls.org
SUMMARY:Praying Together: Morning Prayer Tutorial
DESCRIPTION:Location: Join Zoom\nOR from Zoom App\, Meeting ID: 595 177 454\nOR phone-in: (646) 876-9923\n\nPASSWORD: Email Maddy Elledge to request.\n\n\n\n\n\n\n\n\n\n\n\n\n\n\n\nPraying Together is a teaching series to help individuals grow in their understanding and practice of praying the daily prayer services of our church\, The Daily Office\, either privately or gathered online at appointed times. Our goals are to support everyone in deepening their daily prayer life and to grow a team of lay people who will lead service online on a rotation schedule. If you are interested in learning to lead prayer services\, please email Bill Ford for more information about the expectations and next steps.
URL:https://saintpauls.org/event/praying-together-morning-prayer-tutorial-2/
LOCATION:605 Reynolds St.\, Augusta\, GA\, 30901
CATEGORIES:Christian Formation,Church on-line,Spiritual Practice
ATTACH;FMTTYPE=image/png:https://saintpauls.org/wp-content/uploads/2020/04/Praying-Together-Tutorial-Morning-Prayer.png
END:VEVENT
BEGIN:VEVENT
DTSTART;TZID=America/New_York:20200413T120000
DTEND;TZID=America/New_York:20200413T123000
DTSTAMP:20260425T123636
CREATED:20200407T151851Z
LAST-MODIFIED:20200411T115536Z
UID:12127-1586779200-1586781000@saintpauls.org
SUMMARY:Easter Monday Annual Parish Meeting
DESCRIPTION:Easter Monday Annual Meeting\n\nWhen: Monday\, April 13 at 12 Noon\nLocation: Join Zoom\nOR from Zoom App\, Meeting ID: 802 615 094\nOR phone-in: (646) 876-9923\nPassword: Email Maddy Elledge to request.\n\nProtecting the well-being of all of our congregation will always be our top priority. Due to the coronavirus (COVID-19)\, your Vestry has decided that the official Parish’s Annual Meeting held on the  Monday after Easter be held this year by Zoom .   George\, as chair\, would convene the meeting from the church beginning at 12:00 noon. Normally\, we would convene on the front steps of the Church for the election and investiture of the Vestry as we have for 270 years. However\, Easter Monday is within the time that the Church facilities are closed to group gatherings.  While the number of persons able to attend at one time via Zoom is somewhat limited\, we believe that this method will allow us to convene as a body. Should you wish to participate or to nominate from the floor\, please contact the current Senior Warden\, Billy Badger .   As a reminder\, the slate this year is: Laura Robertson\, Laurie Montgomery\, Matt Gullette and Ashley Wright as Senior Warden.\n\n  \nAnnual Meeting Bulletin
URL:https://saintpauls.org/event/easter-monday-annual-parish-meeting-2/
LOCATION:605 Reynolds St.\, Augusta\, GA\, 30901
CATEGORIES:Church on-line,Meetings,Parish Meetings
ATTACH;FMTTYPE=image/png:https://saintpauls.org/wp-content/uploads/2020/04/saint-pauls-church-pen-and-ink.png
END:VEVENT
BEGIN:VEVENT
DTSTART;TZID=America/New_York:20200412T110000
DTEND;TZID=America/New_York:20200412T120000
DTSTAMP:20260425T123636
CREATED:20200407T140205Z
LAST-MODIFIED:20200410T200424Z
UID:12111-1586689200-1586692800@saintpauls.org
SUMMARY:Easter Service
DESCRIPTION:Sunday\, April 12\nSunday of the Resurrection: Easter Day\n11 a.m.\, Facebook Live\n\nAlleluia\, Christ is Risen!\nThe Lord is risen indeed.\n\nThe Collect for Easter\nAlmighty God\, who through your only-begotten Son Jesus Christ overcame death and opened to us the gate of everlasting life: Grant that we\, who celebrate with joy the day of the Lord’s resurrection\, may be raised from the death of sin by your life-giving Spirit; through Jesus Christ our Lord\, who lives and reigns with you and the Holy Spirit\, one God\, now and for ever. Amen.
URL:https://saintpauls.org/event/easter-service/
LOCATION:605 Reynolds St.\, Augusta\, GA\, 30901
CATEGORIES:Church on-line,Holy Week,Special Services,Worship Services
ATTACH;FMTTYPE=image/png:https://saintpauls.org/wp-content/uploads/2020/04/Easter-Poster-image-square.png
END:VEVENT
BEGIN:VEVENT
DTSTART;TZID=America/New_York:20200410T120000
DTEND;TZID=America/New_York:20200410T130000
DTSTAMP:20260425T123636
CREATED:20200407T133905Z
LAST-MODIFIED:20200407T160738Z
UID:12108-1586520000-1586523600@saintpauls.org
SUMMARY:Good Friday Service
DESCRIPTION:Friday\, April 10\nGood Friday\, Noon\, Facebook Live\n\nOn Good Friday we observe the Passion of Jesus Christ: recalling Jesus’ arrest\, torture\, and crucifixion.   The service begins and ends in silence. The Passion Gospel and Solemn Collects are read. We do not celebrate the Holy Eucharist.  Although it is a day of great solemnity\, devotion\, self-examination\, and prayer\, it is also a day of restrained anticipation\, promise and hope.\nCollect for Good Friday\nAlmighty God\, we pray you graciously to behold this your family\, for whom our Lord Jesus Christ was willing to be betrayed\, and given into the hands of sinners\, and to suffer death upon the cross; who now lives and reigns with you and the Holy Spirit\, one God\, for ever and ever. Amen. \nGood Friday Offering  \nGood Friday\, offerings are invited from across The Episcopal Church to support the four dioceses of the Province of Jerusalem and the Middle East. These offerings are used to promote peace and mutual understanding through pastoral care\, health care\, and educational programs throughout the region. The generous donations of Episcopalians help the Christian presence in the Land of the Holy One to be a vital and effective force for peace and understanding among all of God’s children. To make a donation\, please make your check payable to Saint Paul’s Church and write “Good Friday Offering” on the memo line. Or you can give online directly by clicking here.
URL:https://saintpauls.org/event/good-friday-service-4/
LOCATION:605 Reynolds St.\, Augusta\, GA\, 30901
CATEGORIES:Church on-line,Holy Week,Special Services,Worship Services
END:VEVENT
BEGIN:VEVENT
DTSTART;TZID=America/New_York:20200409T190000
DTEND;TZID=America/New_York:20200409T200000
DTSTAMP:20260425T123636
CREATED:20200407T133700Z
LAST-MODIFIED:20200408T215706Z
UID:12105-1586458800-1586462400@saintpauls.org
SUMMARY:Maundy Thursday Service
DESCRIPTION:Thursday\, April 9\nMaundy Thursday\, 7 p.m.\, Facebook Live \nBulletin for Maundy Thursday 2020 \n  \nThe tradition of an evening celebration of the Eucharist on this day began in the early fifth century . “Maundy” comes from the Latin word “mandatum” (“commandment”)\, referring both to Christ’s words “a new commandment I give you\, that you love one another as I have loved you” and to Christ’s command to celebrate the Eucharist. In this service we remember the Passover and the institution of the Holy Eucharist. \nThe Maundy Thursday service does not end here.  At the end of the service\, we begin the transition to Good Friday.  The Maundy Thursday Liturgy concludes with the stripping of the altar by the clergy and the singing of Psalm 22\, the lights are dimmed\, and the cross is veiled in black as we kneel and then depart in silence. \nThe Collect for Maundy Thursday\nAlmighty Father\, whose dear Son\, on the night before he suffered\, instituted the Sacrament of his Body and Blood: Mercifully grant that we may receive it thankfully in remembrance of Jesus Christ our Lord\, who in these holy mysteries gives us a pledge of eternal life; and who now lives and reigns with you and the Holy Spirit\, one God\, for ever and ever. Amen. \n 
URL:https://saintpauls.org/event/maundy-thursday-service-3/
LOCATION:605 Reynolds St.\, Augusta\, GA\, 30901
CATEGORIES:Church on-line,Holy Week,Special Services,Worship Services
END:VEVENT
BEGIN:VEVENT
DTSTART;TZID=America/New_York:20200408T193000
DTEND;TZID=America/New_York:20200408T195500
DTSTAMP:20260425T123636
CREATED:20200407T143609Z
LAST-MODIFIED:20200407T160821Z
UID:12123-1586374200-1586375700@saintpauls.org
SUMMARY:Praying Together: Compline Tutorial
DESCRIPTION:Praying Together\nAn online clergy-led teaching series to help members grow in their understanding and practice of praying the daily prayer services of our church. We encourage every member to obtain The Book of Common Prayer (BCP).\n\nJoin Praying Together Zoom meetings here\nOR Zoom App\, Meeting ID: 595 177 454\nOR phone-in: (646) 876-9923\nPASSWORD: Email Maddy Elledge to request.\n\nMonday\, April 6: Noonday Prayer Tutorial\n11:30 – 11:55 a.m.; Noonday Prayer at 12 p.m.\n\n\nTuesday\, April 7: Morning Prayer Tutorial\n9 a.m.\n\nWednesday\, April 8: Compline Tutorial\n7:30 – 7:55 p.m.; Compline at 8 p.m.
URL:https://saintpauls.org/event/praying-together-compline-tutorial/
LOCATION:605 Reynolds St.\, Augusta\, GA\, 30901
CATEGORIES:Christian Formation,Church on-line,Prayer,Spiritual Practice
END:VEVENT
BEGIN:VEVENT
DTSTART;TZID=America/New_York:20200407T090000
DTEND;TZID=America/New_York:20200407T095500
DTSTAMP:20260425T123636
CREATED:20200407T143139Z
LAST-MODIFIED:20200407T161057Z
UID:12120-1586250000-1586253300@saintpauls.org
SUMMARY:Praying Together: Morning Prayer Tutorial
DESCRIPTION:Praying Together\nAn online clergy-led teaching series to help members grow in their understanding and practice of praying the daily prayer services of our church. We encourage every member to obtain The Book of Common Prayer (BCP).\n\nJoin Praying Together Zoom meetings here\nOR Zoom App\, Meeting ID: 595 177 454\nOR phone-in: (646) 876-9923\nPASSWORD: Email Maddy Elledge to request.\n\nMonday\, April 6: Noonday Prayer Tutorial\n11:30 – 11:55 a.m.; Noonday Prayer at 12 p.m.\n\nTuesday\, April 7: Morning Prayer Tutorial\n9 a.m.\n\nWednesday\, April 8: Compline Tutorial\n7:30 – 7:55 p.m.; Compline at 8 p.m.
URL:https://saintpauls.org/event/praying-together-morning-prayer-tutorial/
LOCATION:605 Reynolds St.\, Augusta\, GA\, 30901
CATEGORIES:Christian Formation,Church on-line,Prayer,Spiritual Practice
END:VEVENT
BEGIN:VEVENT
DTSTART;TZID=America/New_York:20200406T120000
DTEND;TZID=America/New_York:20200406T123000
DTSTAMP:20260425T123636
CREATED:20200407T132900Z
LAST-MODIFIED:20200407T160921Z
UID:12100-1586174400-1586176200@saintpauls.org
SUMMARY:Noonday Prayer in Holy Week
DESCRIPTION:Monday\, Tuesday\, & Wednesday April 6-8\nNoonday Prayer\n12 Noon\, Join Zoom\nOR Zoom app\, Meeting ID: 373 916 464\nOR phone-in: (646) 876-9923\nPASSWORD: Email Maddy Elledge to request.
URL:https://saintpauls.org/event/noonday-prayer-in-holy-week/
LOCATION:605 Reynolds St.\, Augusta\, GA\, 30901
CATEGORIES:Church on-line,Holy Week,Worship Services
END:VEVENT
BEGIN:VEVENT
DTSTART;TZID=America/New_York:20200406T113000
DTEND;TZID=America/New_York:20200406T115500
DTSTAMP:20260425T123636
CREATED:20200407T142940Z
LAST-MODIFIED:20200407T161120Z
UID:12117-1586172600-1586174100@saintpauls.org
SUMMARY:Praying Together: Monday\, Noonday Prayer Tutorial
DESCRIPTION:Praying Together\nAn online clergy-led teaching series to help members grow in their understanding and practice of praying the daily prayer services of our church. We encourage every member to obtain The Book of Common Prayer (BCP).\n\nJoin Praying Together Zoom meetings here\nOR Zoom App\, Meeting ID: 595 177 454\nOR phone-in: (646) 876-9923\nPASSWORD: Email Maddy Elledge to request.\n\nMonday\, April 6: Noonday Prayer Tutorial\n11:30 – 11:55 a.m.; Noonday Prayer at 12 p.m.\n\nTuesday\, April 7: Morning Prayer Tutorial\n9 a.m.\n\nWednesday\, April 8: Compline Tutorial\n7:30 – 7:55 p.m.; Compline at 8 p.m.
URL:https://saintpauls.org/event/praying-together-monday-noonday-prayer-tutorial/
LOCATION:605 Reynolds St.\, Augusta\, GA\, 30901
CATEGORIES:Christian Formation,Church on-line,Prayer,Spiritual Practice
END:VEVENT
BEGIN:VEVENT
DTSTART;TZID=America/New_York:20200322T110000
DTEND;TZID=America/New_York:20200322T120000
DTSTAMP:20260425T123636
CREATED:20200626T221934Z
LAST-MODIFIED:20210729T144429Z
UID:14108-1584874800-1584878400@saintpauls.org
SUMMARY:Sunday Morning Worship (On-line & In-Person)
DESCRIPTION:Holy Eucharist Rite II \nAt 11:00 a.m. we celebrate a traditional Holy Eucharist (Communion) with both the Saint Paul’s Choir and Canterbury Choir.  Our service follows an established pattern of prayers\, scripture readings\, and hymns\, which we call our “liturgy.” All who come in faith are welcome at the Communion table.\n\nEach Sunday our worship will be broadcast RADIO FM 95.1 or AM 580 or live radio here and live streamed on our Facebook page. \nBulletins are posted here. \nWatch recordings on our Youtube page and here.
URL:https://saintpauls.org/event/sunday-morning-worship/
LOCATION:605 Reynolds St.\, Augusta\, GA\, 30901
CATEGORIES:Church on-line,Worship Services
ATTACH;FMTTYPE=image/jpeg:https://saintpauls.org/wp-content/uploads/2020/04/WaterlogueThumb.jpg
END:VEVENT
END:VCALENDAR