BEGIN:VCALENDAR
VERSION:2.0
PRODID:-//Saint Paul&#039;s Church Augusta, GA - ECPv6.13.2.1//NONSGML v1.0//EN
CALSCALE:GREGORIAN
METHOD:PUBLISH
X-ORIGINAL-URL:https://saintpauls.org
X-WR-CALDESC:Events for Saint Paul&#039;s Church Augusta, GA
REFRESH-INTERVAL;VALUE=DURATION:PT1H
X-Robots-Tag:noindex
X-PUBLISHED-TTL:PT1H
BEGIN:VTIMEZONE
TZID:America/New_York
BEGIN:DAYLIGHT
TZOFFSETFROM:-0500
TZOFFSETTO:-0400
TZNAME:EDT
DTSTART:20190310T070000
END:DAYLIGHT
BEGIN:STANDARD
TZOFFSETFROM:-0400
TZOFFSETTO:-0500
TZNAME:EST
DTSTART:20191103T060000
END:STANDARD
END:VTIMEZONE
BEGIN:VEVENT
DTSTART;TZID=America/New_York:20191203T114500
DTEND;TZID=America/New_York:20191203T124500
DTSTAMP:20260423T204418
CREATED:20191115T200316Z
LAST-MODIFIED:20191203T013709Z
UID:10333-1575373500-1575377100@saintpauls.org
SUMMARY:Evangelism
DESCRIPTION:Contact Barbara Coleman
URL:https://saintpauls.org/event/evangelism-31/
LOCATION:Conference Room\, 1103 East 2nd Avenue\, Garnett\, KS\, 66032\, United States
CATEGORIES:Committee Meetings,Meetings
END:VEVENT
END:VCALENDAR