BEGIN:VCALENDAR
VERSION:2.0
PRODID:-//Saint Paul&#039;s Church Augusta, GA - ECPv6.13.2.1//NONSGML v1.0//EN
CALSCALE:GREGORIAN
METHOD:PUBLISH
X-ORIGINAL-URL:https://saintpauls.org
X-WR-CALDESC:Events for Saint Paul&#039;s Church Augusta, GA
REFRESH-INTERVAL;VALUE=DURATION:PT1H
X-Robots-Tag:noindex
X-PUBLISHED-TTL:PT1H
BEGIN:VTIMEZONE
TZID:America/New_York
BEGIN:DAYLIGHT
TZOFFSETFROM:-0500
TZOFFSETTO:-0400
TZNAME:EDT
DTSTART:20200308T070000
END:DAYLIGHT
BEGIN:STANDARD
TZOFFSETFROM:-0400
TZOFFSETTO:-0500
TZNAME:EST
DTSTART:20201101T060000
END:STANDARD
BEGIN:DAYLIGHT
TZOFFSETFROM:-0500
TZOFFSETTO:-0400
TZNAME:EDT
DTSTART:20210314T070000
END:DAYLIGHT
BEGIN:STANDARD
TZOFFSETFROM:-0400
TZOFFSETTO:-0500
TZNAME:EST
DTSTART:20211107T060000
END:STANDARD
BEGIN:DAYLIGHT
TZOFFSETFROM:-0500
TZOFFSETTO:-0400
TZNAME:EDT
DTSTART:20220313T070000
END:DAYLIGHT
BEGIN:STANDARD
TZOFFSETFROM:-0400
TZOFFSETTO:-0500
TZNAME:EST
DTSTART:20221106T060000
END:STANDARD
BEGIN:DAYLIGHT
TZOFFSETFROM:-0500
TZOFFSETTO:-0400
TZNAME:EDT
DTSTART:20230312T070000
END:DAYLIGHT
BEGIN:STANDARD
TZOFFSETFROM:-0400
TZOFFSETTO:-0500
TZNAME:EST
DTSTART:20231105T060000
END:STANDARD
BEGIN:DAYLIGHT
TZOFFSETFROM:-0500
TZOFFSETTO:-0400
TZNAME:EDT
DTSTART:20240310T070000
END:DAYLIGHT
BEGIN:STANDARD
TZOFFSETFROM:-0400
TZOFFSETTO:-0500
TZNAME:EST
DTSTART:20241103T060000
END:STANDARD
BEGIN:DAYLIGHT
TZOFFSETFROM:-0500
TZOFFSETTO:-0400
TZNAME:EDT
DTSTART:20250309T070000
END:DAYLIGHT
BEGIN:STANDARD
TZOFFSETFROM:-0400
TZOFFSETTO:-0500
TZNAME:EST
DTSTART:20251102T060000
END:STANDARD
END:VTIMEZONE
BEGIN:VEVENT
DTSTART;TZID=America/New_York:20250216T173000
DTEND;TZID=America/New_York:20250216T181000
DTSTAMP:20260424T072441
CREATED:20200926T211706Z
LAST-MODIFIED:20200926T211706Z
UID:23518-1739727000-1739729400@saintpauls.org
SUMMARY:Celtic Evening Prayer (In-Person Worship)
DESCRIPTION:Celtic Evening Prayer and Communion begins at 5:30 PM Sundays.  Come as you are and enter into a place of rest\, prayer\, and reflection. Our Celtic Evening Prayer is a candle-lit service\, emphasizing the contemplative side of worship\, and featuring many of our regular Celtic musicians. Healing Prayers are offered and you are invited to light a candle as a visible sign of your prayers. \nBulletins are located here. \n\n 
URL:https://saintpauls.org/event/celtic-evening-prayer-2025-02-16/
LOCATION:605 Reynolds St.\, Augusta\, GA\, 30901
CATEGORIES:Contemplative Practices,Worship Services
ATTACH;FMTTYPE=image/jpeg:https://saintpauls.org/wp-content/uploads/2020/09/celtic-service-square.jpg
END:VEVENT
BEGIN:VEVENT
DTSTART;TZID=America/New_York:20250209T173000
DTEND;TZID=America/New_York:20250209T181000
DTSTAMP:20260424T072441
CREATED:20200926T211706Z
LAST-MODIFIED:20200926T211706Z
UID:23497-1739122200-1739124600@saintpauls.org
SUMMARY:Celtic Evening Prayer (In-Person Worship)
DESCRIPTION:Celtic Evening Prayer and Communion begins at 5:30 PM Sundays.  Come as you are and enter into a place of rest\, prayer\, and reflection. Our Celtic Evening Prayer is a candle-lit service\, emphasizing the contemplative side of worship\, and featuring many of our regular Celtic musicians. Healing Prayers are offered and you are invited to light a candle as a visible sign of your prayers. \nBulletins are located here. \n\n 
URL:https://saintpauls.org/event/celtic-evening-prayer-2025-02-09/
LOCATION:605 Reynolds St.\, Augusta\, GA\, 30901
CATEGORIES:Contemplative Practices,Worship Services
ATTACH;FMTTYPE=image/jpeg:https://saintpauls.org/wp-content/uploads/2020/09/celtic-service-square.jpg
END:VEVENT
BEGIN:VEVENT
DTSTART;TZID=America/New_York:20250202T173000
DTEND;TZID=America/New_York:20250202T181000
DTSTAMP:20260424T072441
CREATED:20200926T211706Z
LAST-MODIFIED:20200926T211706Z
UID:23476-1738517400-1738519800@saintpauls.org
SUMMARY:Celtic Evening Prayer (In-Person Worship)
DESCRIPTION:Celtic Evening Prayer and Communion begins at 5:30 PM Sundays.  Come as you are and enter into a place of rest\, prayer\, and reflection. Our Celtic Evening Prayer is a candle-lit service\, emphasizing the contemplative side of worship\, and featuring many of our regular Celtic musicians. Healing Prayers are offered and you are invited to light a candle as a visible sign of your prayers. \nBulletins are located here. \n\n 
URL:https://saintpauls.org/event/celtic-evening-prayer-2025-02-02/
LOCATION:605 Reynolds St.\, Augusta\, GA\, 30901
CATEGORIES:Contemplative Practices,Worship Services
ATTACH;FMTTYPE=image/jpeg:https://saintpauls.org/wp-content/uploads/2020/09/celtic-service-square.jpg
END:VEVENT
BEGIN:VEVENT
DTSTART;TZID=America/New_York:20250126T173000
DTEND;TZID=America/New_York:20250126T181000
DTSTAMP:20260424T072441
CREATED:20200926T211706Z
LAST-MODIFIED:20200926T211706Z
UID:23455-1737912600-1737915000@saintpauls.org
SUMMARY:Celtic Evening Prayer (In-Person Worship)
DESCRIPTION:Celtic Evening Prayer and Communion begins at 5:30 PM Sundays.  Come as you are and enter into a place of rest\, prayer\, and reflection. Our Celtic Evening Prayer is a candle-lit service\, emphasizing the contemplative side of worship\, and featuring many of our regular Celtic musicians. Healing Prayers are offered and you are invited to light a candle as a visible sign of your prayers. \nBulletins are located here. \n\n 
URL:https://saintpauls.org/event/celtic-evening-prayer-2025-01-26/
LOCATION:605 Reynolds St.\, Augusta\, GA\, 30901
CATEGORIES:Contemplative Practices,Worship Services
ATTACH;FMTTYPE=image/jpeg:https://saintpauls.org/wp-content/uploads/2020/09/celtic-service-square.jpg
END:VEVENT
BEGIN:VEVENT
DTSTART;TZID=America/New_York:20250119T173000
DTEND;TZID=America/New_York:20250119T181000
DTSTAMP:20260424T072441
CREATED:20200926T211706Z
LAST-MODIFIED:20200926T211706Z
UID:23426-1737307800-1737310200@saintpauls.org
SUMMARY:Celtic Evening Prayer (In-Person Worship)
DESCRIPTION:Celtic Evening Prayer and Communion begins at 5:30 PM Sundays.  Come as you are and enter into a place of rest\, prayer\, and reflection. Our Celtic Evening Prayer is a candle-lit service\, emphasizing the contemplative side of worship\, and featuring many of our regular Celtic musicians. Healing Prayers are offered and you are invited to light a candle as a visible sign of your prayers. \nBulletins are located here. \n\n 
URL:https://saintpauls.org/event/celtic-evening-prayer-2025-01-19/
LOCATION:605 Reynolds St.\, Augusta\, GA\, 30901
CATEGORIES:Contemplative Practices,Worship Services
ATTACH;FMTTYPE=image/jpeg:https://saintpauls.org/wp-content/uploads/2020/09/celtic-service-square.jpg
END:VEVENT
BEGIN:VEVENT
DTSTART;TZID=America/New_York:20250112T173000
DTEND;TZID=America/New_York:20250112T181000
DTSTAMP:20260424T072441
CREATED:20200926T211706Z
LAST-MODIFIED:20200926T211706Z
UID:23399-1736703000-1736705400@saintpauls.org
SUMMARY:Celtic Evening Prayer (In-Person Worship)
DESCRIPTION:Celtic Evening Prayer and Communion begins at 5:30 PM Sundays.  Come as you are and enter into a place of rest\, prayer\, and reflection. Our Celtic Evening Prayer is a candle-lit service\, emphasizing the contemplative side of worship\, and featuring many of our regular Celtic musicians. Healing Prayers are offered and you are invited to light a candle as a visible sign of your prayers. \nBulletins are located here. \n\n 
URL:https://saintpauls.org/event/celtic-evening-prayer-2025-01-12/
LOCATION:605 Reynolds St.\, Augusta\, GA\, 30901
CATEGORIES:Contemplative Practices,Worship Services
ATTACH;FMTTYPE=image/jpeg:https://saintpauls.org/wp-content/uploads/2020/09/celtic-service-square.jpg
END:VEVENT
BEGIN:VEVENT
DTSTART;TZID=America/New_York:20250105T173000
DTEND;TZID=America/New_York:20250105T181000
DTSTAMP:20260424T072441
CREATED:20200926T211706Z
LAST-MODIFIED:20200926T211706Z
UID:23379-1736098200-1736100600@saintpauls.org
SUMMARY:Celtic Evening Prayer (In-Person Worship)
DESCRIPTION:Celtic Evening Prayer and Communion begins at 5:30 PM Sundays.  Come as you are and enter into a place of rest\, prayer\, and reflection. Our Celtic Evening Prayer is a candle-lit service\, emphasizing the contemplative side of worship\, and featuring many of our regular Celtic musicians. Healing Prayers are offered and you are invited to light a candle as a visible sign of your prayers. \nBulletins are located here. \n\n 
URL:https://saintpauls.org/event/celtic-evening-prayer-2025-01-05/
LOCATION:605 Reynolds St.\, Augusta\, GA\, 30901
CATEGORIES:Contemplative Practices,Worship Services
ATTACH;FMTTYPE=image/jpeg:https://saintpauls.org/wp-content/uploads/2020/09/celtic-service-square.jpg
END:VEVENT
BEGIN:VEVENT
DTSTART;TZID=America/New_York:20241229T173000
DTEND;TZID=America/New_York:20241229T181000
DTSTAMP:20260424T072441
CREATED:20200926T211706Z
LAST-MODIFIED:20200926T211706Z
UID:23362-1735493400-1735495800@saintpauls.org
SUMMARY:Celtic Evening Prayer (In-Person Worship)
DESCRIPTION:Celtic Evening Prayer and Communion begins at 5:30 PM Sundays.  Come as you are and enter into a place of rest\, prayer\, and reflection. Our Celtic Evening Prayer is a candle-lit service\, emphasizing the contemplative side of worship\, and featuring many of our regular Celtic musicians. Healing Prayers are offered and you are invited to light a candle as a visible sign of your prayers. \nBulletins are located here. \n\n 
URL:https://saintpauls.org/event/celtic-evening-prayer-2024-12-29/
LOCATION:605 Reynolds St.\, Augusta\, GA\, 30901
CATEGORIES:Contemplative Practices,Worship Services
ATTACH;FMTTYPE=image/jpeg:https://saintpauls.org/wp-content/uploads/2020/09/celtic-service-square.jpg
END:VEVENT
BEGIN:VEVENT
DTSTART;TZID=America/New_York:20241222T173000
DTEND;TZID=America/New_York:20241222T181000
DTSTAMP:20260424T072441
CREATED:20200926T211706Z
LAST-MODIFIED:20200926T211706Z
UID:23322-1734888600-1734891000@saintpauls.org
SUMMARY:Celtic Evening Prayer (In-Person Worship)
DESCRIPTION:Celtic Evening Prayer and Communion begins at 5:30 PM Sundays.  Come as you are and enter into a place of rest\, prayer\, and reflection. Our Celtic Evening Prayer is a candle-lit service\, emphasizing the contemplative side of worship\, and featuring many of our regular Celtic musicians. Healing Prayers are offered and you are invited to light a candle as a visible sign of your prayers. \nBulletins are located here. \n\n 
URL:https://saintpauls.org/event/celtic-evening-prayer-2024-12-22/
LOCATION:605 Reynolds St.\, Augusta\, GA\, 30901
CATEGORIES:Contemplative Practices,Worship Services
ATTACH;FMTTYPE=image/jpeg:https://saintpauls.org/wp-content/uploads/2020/09/celtic-service-square.jpg
END:VEVENT
BEGIN:VEVENT
DTSTART;TZID=America/New_York:20241215T173000
DTEND;TZID=America/New_York:20241215T181000
DTSTAMP:20260424T072441
CREATED:20200926T211706Z
LAST-MODIFIED:20200926T211706Z
UID:23299-1734283800-1734286200@saintpauls.org
SUMMARY:Celtic Evening Prayer (In-Person Worship)
DESCRIPTION:Celtic Evening Prayer and Communion begins at 5:30 PM Sundays.  Come as you are and enter into a place of rest\, prayer\, and reflection. Our Celtic Evening Prayer is a candle-lit service\, emphasizing the contemplative side of worship\, and featuring many of our regular Celtic musicians. Healing Prayers are offered and you are invited to light a candle as a visible sign of your prayers. \nBulletins are located here. \n\n 
URL:https://saintpauls.org/event/celtic-evening-prayer-2024-12-15/
LOCATION:605 Reynolds St.\, Augusta\, GA\, 30901
CATEGORIES:Contemplative Practices,Worship Services
ATTACH;FMTTYPE=image/jpeg:https://saintpauls.org/wp-content/uploads/2020/09/celtic-service-square.jpg
END:VEVENT
BEGIN:VEVENT
DTSTART;TZID=America/New_York:20241208T173000
DTEND;TZID=America/New_York:20241208T181000
DTSTAMP:20260424T072441
CREATED:20200926T211706Z
LAST-MODIFIED:20200926T211706Z
UID:23277-1733679000-1733681400@saintpauls.org
SUMMARY:Celtic Evening Prayer (In-Person Worship)
DESCRIPTION:Celtic Evening Prayer and Communion begins at 5:30 PM Sundays.  Come as you are and enter into a place of rest\, prayer\, and reflection. Our Celtic Evening Prayer is a candle-lit service\, emphasizing the contemplative side of worship\, and featuring many of our regular Celtic musicians. Healing Prayers are offered and you are invited to light a candle as a visible sign of your prayers. \nBulletins are located here. \n\n 
URL:https://saintpauls.org/event/celtic-evening-prayer-2024-12-08/
LOCATION:605 Reynolds St.\, Augusta\, GA\, 30901
CATEGORIES:Contemplative Practices,Worship Services
ATTACH;FMTTYPE=image/jpeg:https://saintpauls.org/wp-content/uploads/2020/09/celtic-service-square.jpg
END:VEVENT
BEGIN:VEVENT
DTSTART;TZID=America/New_York:20241201T173000
DTEND;TZID=America/New_York:20241201T181000
DTSTAMP:20260424T072441
CREATED:20200926T211706Z
LAST-MODIFIED:20200926T211706Z
UID:23255-1733074200-1733076600@saintpauls.org
SUMMARY:Celtic Evening Prayer (In-Person Worship)
DESCRIPTION:Celtic Evening Prayer and Communion begins at 5:30 PM Sundays.  Come as you are and enter into a place of rest\, prayer\, and reflection. Our Celtic Evening Prayer is a candle-lit service\, emphasizing the contemplative side of worship\, and featuring many of our regular Celtic musicians. Healing Prayers are offered and you are invited to light a candle as a visible sign of your prayers. \nBulletins are located here. \n\n 
URL:https://saintpauls.org/event/celtic-evening-prayer-2024-12-01/
LOCATION:605 Reynolds St.\, Augusta\, GA\, 30901
CATEGORIES:Contemplative Practices,Worship Services
ATTACH;FMTTYPE=image/jpeg:https://saintpauls.org/wp-content/uploads/2020/09/celtic-service-square.jpg
END:VEVENT
BEGIN:VEVENT
DTSTART;TZID=America/New_York:20241124T173000
DTEND;TZID=America/New_York:20241124T181000
DTSTAMP:20260424T072441
CREATED:20200926T211706Z
LAST-MODIFIED:20200926T211706Z
UID:23235-1732469400-1732471800@saintpauls.org
SUMMARY:Celtic Evening Prayer (In-Person Worship)
DESCRIPTION:Celtic Evening Prayer and Communion begins at 5:30 PM Sundays.  Come as you are and enter into a place of rest\, prayer\, and reflection. Our Celtic Evening Prayer is a candle-lit service\, emphasizing the contemplative side of worship\, and featuring many of our regular Celtic musicians. Healing Prayers are offered and you are invited to light a candle as a visible sign of your prayers. \nBulletins are located here. \n\n 
URL:https://saintpauls.org/event/celtic-evening-prayer-2024-11-24/
LOCATION:605 Reynolds St.\, Augusta\, GA\, 30901
CATEGORIES:Contemplative Practices,Worship Services
ATTACH;FMTTYPE=image/jpeg:https://saintpauls.org/wp-content/uploads/2020/09/celtic-service-square.jpg
END:VEVENT
BEGIN:VEVENT
DTSTART;TZID=America/New_York:20241117T173000
DTEND;TZID=America/New_York:20241117T181000
DTSTAMP:20260424T072441
CREATED:20200926T211706Z
LAST-MODIFIED:20200926T211706Z
UID:23211-1731864600-1731867000@saintpauls.org
SUMMARY:Celtic Evening Prayer (In-Person Worship)
DESCRIPTION:Celtic Evening Prayer and Communion begins at 5:30 PM Sundays.  Come as you are and enter into a place of rest\, prayer\, and reflection. Our Celtic Evening Prayer is a candle-lit service\, emphasizing the contemplative side of worship\, and featuring many of our regular Celtic musicians. Healing Prayers are offered and you are invited to light a candle as a visible sign of your prayers. \nBulletins are located here. \n\n 
URL:https://saintpauls.org/event/celtic-evening-prayer-2024-11-17/
LOCATION:605 Reynolds St.\, Augusta\, GA\, 30901
CATEGORIES:Contemplative Practices,Worship Services
ATTACH;FMTTYPE=image/jpeg:https://saintpauls.org/wp-content/uploads/2020/09/celtic-service-square.jpg
END:VEVENT
BEGIN:VEVENT
DTSTART;TZID=America/New_York:20210704T173000
DTEND;TZID=America/New_York:20210704T181000
DTSTAMP:20260424T072441
CREATED:20200926T211706Z
LAST-MODIFIED:20210702T212724Z
UID:17836-1625419800-1625422200@saintpauls.org
SUMMARY:No Celtic Evening Prayer This Week Only
DESCRIPTION:Celtic Evening Prayer and Communion begins at 5:30 PM Sundays.  Come as you are and enter into a place of rest\, prayer\, and reflection. Our Celtic Evening Prayer is a candle-lit service\, emphasizing the contemplative side of worship\, and featuring many of our regular Celtic musicians. Healing Prayers are offered and you are invited to light a candle as a visible sign of your prayers. \n  \n  \n  \n 
URL:https://saintpauls.org/event/celtic-evening-prayer-2021-07-04/
LOCATION:605 Reynolds St.\, Augusta\, GA\, 30901
CATEGORIES:Contemplative Practices,Worship Services
ATTACH;FMTTYPE=image/jpeg:https://saintpauls.org/wp-content/uploads/2020/09/celtic-service-square.jpg
END:VEVENT
BEGIN:VEVENT
DTSTART;TZID=America/New_York:20200927T173000
DTEND;TZID=America/New_York:20200927T181000
DTSTAMP:20260424T072441
CREATED:20200926T211706Z
LAST-MODIFIED:20210705T173358Z
UID:15314-1601227800-1601230200@saintpauls.org
SUMMARY:Celtic Evening Prayer (In-Person Worship)
DESCRIPTION:Celtic Evening Prayer and Communion begins at 5:30 PM Sundays.  Come as you are and enter into a place of rest\, prayer\, and reflection. Our Celtic Evening Prayer is a candle-lit service\, emphasizing the contemplative side of worship\, and featuring many of our regular Celtic musicians. Healing Prayers are offered and you are invited to light a candle as a visible sign of your prayers. \nBulletins are located here. \n\n 
URL:https://saintpauls.org/event/celtic-evening-prayer/
LOCATION:605 Reynolds St.\, Augusta\, GA\, 30901
CATEGORIES:Contemplative Practices,Worship Services
ATTACH;FMTTYPE=image/jpeg:https://saintpauls.org/wp-content/uploads/2020/09/celtic-service-square.jpg
END:VEVENT
BEGIN:VEVENT
DTSTART;TZID=America/New_York:20200909T190000
DTEND;TZID=America/New_York:20200909T195500
DTSTAMP:20260424T072441
CREATED:20200904T214647Z
LAST-MODIFIED:20200904T214647Z
UID:14897-1599678000-1599681300@saintpauls.org
SUMMARY:Praying with Sacred Icons
DESCRIPTION:Location: Join Zoom\nOR from Zoom App\, Meeting ID: 595 177 454\nOR phone-in: (646) 876-9923\n\nPASSWORD: Email Maddy Elledge to request.\n\n\n\n\n\n\n\n\n\n\n\n\n\n\nThis tutorial will offer a way to gaze into and pray through the holy images known as icons. This too is a form of contemplative reflection that allow the image to unfold its truth within you. The more we practice and allow the transformation process to happen\, the more we are able to experience the Indwelling Presence in everything we do. These practices are drawn from Rev. Martin Smith’s classic guide The Word is Very Near You: Praying with Scripture\, and Rowan Williams’ The Indwelling of the Light. \nFollowing the tutorial and meditation\, we will join the parish for the liturgy of Compline on the same zoom meeting at 8 p.m. \n\n“Contemplative practices facilitate and deepen our relationship with God.”\n\n\nInquiries\, questions to be addressed in the tutorial? Please send them in advance to Fr. John Jenkins.
URL:https://saintpauls.org/event/praying-with-sacred-icons/
LOCATION:605 Reynolds St.\, Augusta\, GA\, 30901
CATEGORIES:Christian Formation,Church on-line,Contemplative Practices,Spiritual Practice
ATTACH;FMTTYPE=image/jpeg:https://saintpauls.org/wp-content/uploads/2020/09/Praying-with-the-Icons.jpg
END:VEVENT
END:VCALENDAR