BEGIN:VCALENDAR
VERSION:2.0
PRODID:-//Saint Paul&#039;s Church Augusta, GA - ECPv6.13.2.1//NONSGML v1.0//EN
CALSCALE:GREGORIAN
METHOD:PUBLISH
X-ORIGINAL-URL:https://saintpauls.org
X-WR-CALDESC:Events for Saint Paul&#039;s Church Augusta, GA
REFRESH-INTERVAL;VALUE=DURATION:PT1H
X-Robots-Tag:noindex
X-PUBLISHED-TTL:PT1H
BEGIN:VTIMEZONE
TZID:America/New_York
BEGIN:DAYLIGHT
TZOFFSETFROM:-0500
TZOFFSETTO:-0400
TZNAME:EDT
DTSTART:20180311T070000
END:DAYLIGHT
BEGIN:STANDARD
TZOFFSETFROM:-0400
TZOFFSETTO:-0500
TZNAME:EST
DTSTART:20181104T060000
END:STANDARD
BEGIN:DAYLIGHT
TZOFFSETFROM:-0500
TZOFFSETTO:-0400
TZNAME:EDT
DTSTART:20190310T070000
END:DAYLIGHT
BEGIN:STANDARD
TZOFFSETFROM:-0400
TZOFFSETTO:-0500
TZNAME:EST
DTSTART:20191103T060000
END:STANDARD
END:VTIMEZONE
BEGIN:VEVENT
DTSTART;TZID=America/New_York:20190421T173000
DTEND;TZID=America/New_York:20190421T181500
DTSTAMP:20260424T015526
CREATED:20190325T024104Z
LAST-MODIFIED:20190421T154900Z
UID:7940-1555867800-1555870500@saintpauls.org
SUMMARY:Easter Celebration of Celtic Evening Prayer
DESCRIPTION:Easter Celebration of Celtic Evening Prayer. Eryn Eubanks and the Family Fold will be our guest musicians.
URL:https://saintpauls.org/event/celtic-evening-prayer-and-communion-service-67/
LOCATION:Nave
CATEGORIES:Easter,Special Services,Worship Services
ATTACH;FMTTYPE=image/png:https://saintpauls.org/wp-content/uploads/2018/03/ssdd.png
END:VEVENT
BEGIN:VEVENT
DTSTART;TZID=America/New_York:20190421T110000
DTEND;TZID=America/New_York:20190421T120000
DTSTAMP:20260424T015526
CREATED:20190325T024100Z
LAST-MODIFIED:20190421T154858Z
UID:7939-1555844400-1555848000@saintpauls.org
SUMMARY:Holy Eucharist Rite II - The Sunday of the Resurrection: Easter Day
DESCRIPTION:Easter Celebration of the Resurrection with the Saint Paul’s Choir\, Brass\, and Percussion. The nursery will be available.
URL:https://saintpauls.org/event/holy-eucharist-rite-ii-53/
LOCATION:605 Reynolds St.\, Augusta\, GA\, 30901
CATEGORIES:Easter,Special Services,Worship Services
ATTACH;FMTTYPE=image/png:https://saintpauls.org/wp-content/uploads/2018/03/ssdd.png
END:VEVENT
BEGIN:VEVENT
DTSTART;TZID=America/New_York:20190421T100000
DTEND;TZID=America/New_York:20190421T101500
DTSTAMP:20260424T015526
CREATED:20190409T200503Z
LAST-MODIFIED:20190409T200503Z
UID:8092-1555840800-1555841700@saintpauls.org
SUMMARY:Annual Easter Egg Hunt
DESCRIPTION:The Annual Easter Egg Hunt on the Lawn immediately follows the 9 AM service.  We will meet on the front steps for the annual picture prior to dividing into groups by age for the hunt. Don’t forget your basket!
URL:https://saintpauls.org/event/annual-easter-egg-hunt/
LOCATION:GA\, United States
CATEGORIES:Children,Easter,Parish Life
ATTACH;FMTTYPE=image/png:https://saintpauls.org/wp-content/uploads/2019/04/Easter-Egg-Hunt-2018.png
END:VEVENT
BEGIN:VEVENT
DTSTART;TZID=America/New_York:20190421T090000
DTEND;TZID=America/New_York:20190421T100000
DTSTAMP:20260424T015526
CREATED:20190322T010656Z
LAST-MODIFIED:20190417T140319Z
UID:7922-1555837200-1555840800@saintpauls.org
SUMMARY:Holy Eucharist Rite 2 - The Sunday of the Resurrection: Easter Day
DESCRIPTION:Easter Celebration of the Resurrection with the parish’s Three Choirs\, Trumpet\, and Drums.  The Nursery will be available.
URL:https://saintpauls.org/event/holy-eucharist-rite-1-62/
LOCATION:605 Reynolds St.\, Augusta\, GA\, 30901
CATEGORIES:Easter,Special Services,Worship Services
ATTACH;FMTTYPE=image/png:https://saintpauls.org/wp-content/uploads/2018/03/ssdd.png
END:VEVENT
BEGIN:VEVENT
DTSTART;TZID=America/New_York:20180401T173000
DTEND;TZID=America/New_York:20180401T181500
DTSTAMP:20260424T015526
CREATED:20180302T202913Z
LAST-MODIFIED:20180401T213829Z
UID:3068-1522603800-1522606500@saintpauls.org
SUMMARY:Celtic Evening Prayer and Communion Service
DESCRIPTION:This event has a Google Hangouts video call.\nJoin: https://plus.google.com/hangouts/_/saintpauls.org/celtic-evening?hceid=c2FpbnRwYXVscy5vcmdfM2Z2dDJ0OWFnOXJkdDB0OThkdGNvczdmazhAZ3JvdXAuY2FsZW5kYXIuZ29vZ2xlLmNvbQ._68s3acph892kab9k8513ab9k6ss3eba28krkab9h6l236dq38kokae9p84&hs=121
URL:https://saintpauls.org/event/celtic-evening-prayer-and-communion-service-5/
LOCATION:Nave
CATEGORIES:Easter,Special Services
ATTACH;FMTTYPE=image/jpeg:https://saintpauls.org/wp-content/uploads/2018/02/EASTER-POSTCARD-2.jpg
END:VEVENT
BEGIN:VEVENT
DTSTART;TZID=America/New_York:20180401T110000
DTEND;TZID=America/New_York:20180401T120000
DTSTAMP:20260424T015526
CREATED:20180302T202851Z
LAST-MODIFIED:20180401T213109Z
UID:3065-1522580400-1522584000@saintpauls.org
SUMMARY:Holy Eucharist Rite II with the Saint Paul's Choir
DESCRIPTION:This event has a Google Hangouts video call.\nJoin: https://plus.google.com/hangouts/_/saintpauls.org/holy-eucharist?hceid=c2FpbnRwYXVscy5vcmdfM2Z2dDJ0OWFnOXJkdDB0OThkdGNvczdmazhAZ3JvdXAuY2FsZW5kYXIuZ29vZ2xlLmNvbQ._68pkch9n6l0j6b9g8cs30b9k64q3ib9o752k8ba48l234dhn6cr48c236s&hs=121
URL:https://saintpauls.org/event/holy-eucharist-rite-ii-with-the-saint-pauls-choir/
LOCATION:GA
CATEGORIES:Easter,Special Services
ATTACH;FMTTYPE=image/jpeg:https://saintpauls.org/wp-content/uploads/2018/02/EASTER-POSTCARD-2.jpg
END:VEVENT
BEGIN:VEVENT
DTSTART;TZID=America/New_York:20180401T100000
DTEND;TZID=America/New_York:20180401T110000
DTSTAMP:20260424T015526
CREATED:20180302T202913Z
LAST-MODIFIED:20180401T213829Z
UID:3067-1522576800-1522580400@saintpauls.org
SUMMARY:Annual Easter Egg Hunt on the Lawn
DESCRIPTION:
URL:https://saintpauls.org/event/annual-easter-egg-hunt-on-the-lawn/
LOCATION:GA
CATEGORIES:Easter
ATTACH;FMTTYPE=image/jpeg:https://saintpauls.org/wp-content/uploads/2018/03/EasterEggHuntPostcard2018.jpg
END:VEVENT
BEGIN:VEVENT
DTSTART;TZID=America/New_York:20180401T090000
DTEND;TZID=America/New_York:20180401T100000
DTSTAMP:20260424T015526
CREATED:20180302T202912Z
LAST-MODIFIED:20180401T213109Z
UID:3066-1522573200-1522576800@saintpauls.org
SUMMARY:Holy Eucharist Rite II with the Parish's 3 choirs
DESCRIPTION:This event has a Google Hangouts video call.\nJoin: https://plus.google.com/hangouts/_/saintpauls.org/holy-eucharist?hceid=c2FpbnRwYXVscy5vcmdfM2Z2dDJ0OWFnOXJkdDB0OThkdGNvczdmazhAZ3JvdXAuY2FsZW5kYXIuZ29vZ2xlLmNvbQ.3m8p47er0m4a6l1g0p9144bvl6&hs=121
URL:https://saintpauls.org/event/holy-eucharist-rite-ii-with-the-parishs-3-choirs/
LOCATION:GA
CATEGORIES:Easter,Special Services
END:VEVENT
END:VCALENDAR