BEGIN:VCALENDAR
VERSION:2.0
PRODID:-//Saint Paul&#039;s Church Augusta, GA - ECPv6.13.2.1//NONSGML v1.0//EN
CALSCALE:GREGORIAN
METHOD:PUBLISH
X-ORIGINAL-URL:https://saintpauls.org
X-WR-CALDESC:Events for Saint Paul&#039;s Church Augusta, GA
REFRESH-INTERVAL;VALUE=DURATION:PT1H
X-Robots-Tag:noindex
X-PUBLISHED-TTL:PT1H
BEGIN:VTIMEZONE
TZID:America/New_York
BEGIN:DAYLIGHT
TZOFFSETFROM:-0500
TZOFFSETTO:-0400
TZNAME:EDT
DTSTART:20180311T070000
END:DAYLIGHT
BEGIN:STANDARD
TZOFFSETFROM:-0400
TZOFFSETTO:-0500
TZNAME:EST
DTSTART:20181104T060000
END:STANDARD
BEGIN:DAYLIGHT
TZOFFSETFROM:-0500
TZOFFSETTO:-0400
TZNAME:EDT
DTSTART:20190310T070000
END:DAYLIGHT
BEGIN:STANDARD
TZOFFSETFROM:-0400
TZOFFSETTO:-0500
TZNAME:EST
DTSTART:20191103T060000
END:STANDARD
BEGIN:DAYLIGHT
TZOFFSETFROM:-0500
TZOFFSETTO:-0400
TZNAME:EDT
DTSTART:20200308T070000
END:DAYLIGHT
BEGIN:STANDARD
TZOFFSETFROM:-0400
TZOFFSETTO:-0500
TZNAME:EST
DTSTART:20201101T060000
END:STANDARD
END:VTIMEZONE
BEGIN:VEVENT
DTSTART;TZID=America/New_York:20200413T120000
DTEND;TZID=America/New_York:20200413T123000
DTSTAMP:20260424T060719
CREATED:20200407T151851Z
LAST-MODIFIED:20200411T115536Z
UID:12127-1586779200-1586781000@saintpauls.org
SUMMARY:Easter Monday Annual Parish Meeting
DESCRIPTION:Easter Monday Annual Meeting\n\nWhen: Monday\, April 13 at 12 Noon\nLocation: Join Zoom\nOR from Zoom App\, Meeting ID: 802 615 094\nOR phone-in: (646) 876-9923\nPassword: Email Maddy Elledge to request.\n\nProtecting the well-being of all of our congregation will always be our top priority. Due to the coronavirus (COVID-19)\, your Vestry has decided that the official Parish’s Annual Meeting held on the  Monday after Easter be held this year by Zoom .   George\, as chair\, would convene the meeting from the church beginning at 12:00 noon. Normally\, we would convene on the front steps of the Church for the election and investiture of the Vestry as we have for 270 years. However\, Easter Monday is within the time that the Church facilities are closed to group gatherings.  While the number of persons able to attend at one time via Zoom is somewhat limited\, we believe that this method will allow us to convene as a body. Should you wish to participate or to nominate from the floor\, please contact the current Senior Warden\, Billy Badger .   As a reminder\, the slate this year is: Laura Robertson\, Laurie Montgomery\, Matt Gullette and Ashley Wright as Senior Warden.\n\n  \nAnnual Meeting Bulletin
URL:https://saintpauls.org/event/easter-monday-annual-parish-meeting-2/
LOCATION:605 Reynolds St.\, Augusta\, GA\, 30901
CATEGORIES:Church on-line,Meetings,Parish Meetings
ATTACH;FMTTYPE=image/png:https://saintpauls.org/wp-content/uploads/2020/04/saint-pauls-church-pen-and-ink.png
END:VEVENT
BEGIN:VEVENT
DTSTART;TZID=America/New_York:20191203T114500
DTEND;TZID=America/New_York:20191203T124500
DTSTAMP:20260424T060719
CREATED:20191115T200316Z
LAST-MODIFIED:20191203T013709Z
UID:10333-1575373500-1575377100@saintpauls.org
SUMMARY:Evangelism
DESCRIPTION:Contact Barbara Coleman
URL:https://saintpauls.org/event/evangelism-31/
LOCATION:Conference Room\, 1103 East 2nd Avenue\, Garnett\, KS\, 66032\, United States
CATEGORIES:Committee Meetings,Meetings
END:VEVENT
BEGIN:VEVENT
DTSTART;TZID=America/New_York:20190422T120000
DTEND;TZID=America/New_York:20190422T123000
DTSTAMP:20260424T060719
CREATED:20190409T202637Z
LAST-MODIFIED:20190409T202637Z
UID:8103-1555934400-1555936200@saintpauls.org
SUMMARY:Annual Parish Meeting
DESCRIPTION:Our Colonial Charter and Bylaws call for an Annual Parish Meeting on Easter Monday. You are invited to our 269th Annual Parish Meeting\, Monday\, April 22\, at 12 noon\, on the Front Portico. The Churchwardens\, Members of the Vestry\, and Officers of the Parish will be installed.
URL:https://saintpauls.org/event/annual-parish-meeting/
LOCATION:Saint Paul’s Church – Church Steps\, 605 Reynolds St.\, Augusta\, 30901
CATEGORIES:Meetings,Parish Meetings
END:VEVENT
BEGIN:VEVENT
DTSTART;TZID=America/New_York:20180402T120000
DTEND;TZID=America/New_York:20180402T130000
DTSTAMP:20260424T060719
CREATED:20180303T205202Z
LAST-MODIFIED:20180402T213032Z
UID:3088-1522670400-1522674000@saintpauls.org
SUMMARY:Easter Monday Annual Parish Meeting
DESCRIPTION:Contact Billy Badger
URL:https://saintpauls.org/event/easter-monday-annual-parish-meeting/
LOCATION:Church Steps
CATEGORIES:Meetings,Parish Meetings
ATTACH;FMTTYPE=image/jpeg:https://saintpauls.org/wp-content/uploads/2018/03/DSC_5971.jpg
END:VEVENT
END:VCALENDAR