BEGIN:VCALENDAR
VERSION:2.0
PRODID:-//Saint Paul&#039;s Church Augusta, GA - ECPv6.13.2.1//NONSGML v1.0//EN
CALSCALE:GREGORIAN
METHOD:PUBLISH
X-WR-CALNAME:Saint Paul&#039;s Church Augusta, GA
X-ORIGINAL-URL:https://saintpauls.org
X-WR-CALDESC:Events for Saint Paul&#039;s Church Augusta, GA
REFRESH-INTERVAL;VALUE=DURATION:PT1H
X-Robots-Tag:noindex
X-PUBLISHED-TTL:PT1H
BEGIN:VTIMEZONE
TZID:America/New_York
BEGIN:DAYLIGHT
TZOFFSETFROM:-0500
TZOFFSETTO:-0400
TZNAME:EDT
DTSTART:20200308T070000
END:DAYLIGHT
BEGIN:STANDARD
TZOFFSETFROM:-0400
TZOFFSETTO:-0500
TZNAME:EST
DTSTART:20201101T060000
END:STANDARD
BEGIN:DAYLIGHT
TZOFFSETFROM:-0500
TZOFFSETTO:-0400
TZNAME:EDT
DTSTART:20210314T070000
END:DAYLIGHT
BEGIN:STANDARD
TZOFFSETFROM:-0400
TZOFFSETTO:-0500
TZNAME:EST
DTSTART:20211107T060000
END:STANDARD
END:VTIMEZONE
BEGIN:VEVENT
DTSTART;TZID=America/New_York:20210711T103000
DTEND;TZID=America/New_York:20210711T104500
DTSTAMP:20260424T104534
CREATED:20210705T163517Z
LAST-MODIFIED:20210705T163517Z
UID:18532-1625999400-1626000300@saintpauls.org
SUMMARY:Second Sunday Birthday Celebration
DESCRIPTION:ALL are invited to our brief\, but joyful celebration for all whose birthdays fall in June and July\, Sunday\, July 11\, 10:30-10:45 AM\, in the churchyard. Come\, sing\, and share a cupcake with your parish family.
URL:https://saintpauls.org/event/second-sunday-birthday-celebration/
LOCATION:Churchyard
CATEGORIES:Adult,All ages,Children,Parents,Parish Life,Young Adult,Youth
ATTACH;FMTTYPE=image/png:https://saintpauls.org/wp-content/uploads/2021/07/Birthday-Sunday-square.png
END:VEVENT
BEGIN:VEVENT
DTSTART;TZID=America/New_York:20201129T130000
DTEND;TZID=America/New_York:20201129T140000
DTSTAMP:20260424T104534
CREATED:20201120T213528Z
LAST-MODIFIED:20201120T220854Z
UID:16080-1606654800-1606658400@saintpauls.org
SUMMARY:Make an Advent Wreath for your Home
DESCRIPTION:On the first Sunday of Advent\, November 29\, the Parish Office will have Advent Wreath kits available for you to put together at home. All supplies will be provided\, including wreaths\, live greens\, and candles. The kits are $15. Donations are accepted. Supplies are limited; a RSVP is required on SignUp Genius or by calling Hannah Gosney in the Parish Office (706) 724-2485 ext. 203 to reserve your wreath kit. Please contact the Parish office if you are unable to pick up your wreath during this time.
URL:https://saintpauls.org/event/make-an-advent-wreath-for-your-home/
LOCATION:605 Reynolds St.\, Augusta\, GA\, 30901
CATEGORIES:Advent,All ages,Children,Parents,Parish Life
ATTACH;FMTTYPE=image/jpeg:https://saintpauls.org/wp-content/uploads/2020/11/Advent-Wreath.jpg
END:VEVENT
BEGIN:VEVENT
DTSTART;VALUE=DATE:20201003
DTEND;VALUE=DATE:20201004
DTSTAMP:20260424T104534
CREATED:20200918T215154Z
LAST-MODIFIED:20200918T215154Z
UID:15151-1601683200-1601769599@saintpauls.org
SUMMARY:Walk for Water
DESCRIPTION:Walk for Water is back! This year’s Walk for Water is now a virtual event that will impact people around the world by providing solutions that save lives. \nA virtual walk is a walk that takes place in multiple locations\, yet participants are united by one purpose. We encourage you to grab a water-carrying container\, plan a 3.5-mile route in your local community\, and walk in solidarity with those who must make this walk everyday to retrieve water for their family. \nTo join our Saint Paul’s walking team: \n\n\nJoin our “Saint Paul’s EpiscoPAIL” team\nPlan your walking route! Whether you want to walk the full 3.5 miles\, or just a lap around your neighborhood\, you can join our team!\n#ShowYourShirt and Share your walk — Take a selfie in your Walk for Water shirt and post it using the hashtag. Be sure to tag CSRA Walk for Water and Saint Paul’s Church on Facebook!The 2020 CSRA Walk for Water will bring together teams of participants from both sides of the Savannah River and from all walks of life\, as we boldly battle the global water crisis which affects 2.2 billion people around the world. Together\, we can make a difference by bringing safe water to people in need. Sign up to walk or donate by clicking the buttons below.\n\n  \n WALK \n DONATE
URL:https://saintpauls.org/event/walk-for-water-2/
LOCATION:605 Reynolds St.\, Augusta\, GA\, 30901
CATEGORIES:Adult,All ages,Children,Church on-line,Outreach,Parents,Young Adult,Youth
ATTACH;FMTTYPE=image/png:https://saintpauls.org/wp-content/uploads/2019/08/Walk-Logo_2018.png
END:VEVENT
BEGIN:VEVENT
DTSTART;TZID=America/New_York:20200930T190000
DTEND;TZID=America/New_York:20200930T195500
DTSTAMP:20260424T104534
CREATED:20200926T213245Z
LAST-MODIFIED:20200926T213245Z
UID:15308-1601492400-1601495700@saintpauls.org
SUMMARY:Faith at Home: a conversation for parents about practicing faith and forming children in Christ’s love and image.
DESCRIPTION:
URL:https://saintpauls.org/event/faith-at-home-a-conversation-for-parents-about-practicing-faith-and-forming-children-in-christs-love-and-image-2/
LOCATION:Saint Paul’s Church On-line\, 605 Reynolds St.\, Augusta\, GA\, 30901
CATEGORIES:Children,Christian Formation,Church on-line,Parents,Youth
ATTACH;FMTTYPE=image/png:https://saintpauls.org/wp-content/uploads/2020/09/Praying-together-for-Parents.png
END:VEVENT
BEGIN:VEVENT
DTSTART;TZID=America/New_York:20200923T190000
DTEND;TZID=America/New_York:20200923T195500
DTSTAMP:20260424T104534
CREATED:20200918T212949Z
LAST-MODIFIED:20200918T212949Z
UID:15129-1600887600-1600890900@saintpauls.org
SUMMARY:Faith at Home: a conversation for parents about practicing faith and forming children in Christ’s love and image.
DESCRIPTION:
URL:https://saintpauls.org/event/faith-at-home-a-conversation-for-parents-about-practicing-faith-and-forming-children-in-christs-love-and-image/
LOCATION:605 Reynolds St.\, Augusta\, GA\, 30901
CATEGORIES:Children,Christian Formation,Church on-line,Parents,Youth
ATTACH;FMTTYPE=image/png:https://saintpauls.org/wp-content/uploads/2020/09/Praying-together-for-Parents.png
END:VEVENT
BEGIN:VEVENT
DTSTART;TZID=America/New_York:20200830T100000
DTEND;TZID=America/New_York:20200830T103000
DTSTAMP:20260424T104534
CREATED:20200822T205921Z
LAST-MODIFIED:20200828T200802Z
UID:14702-1598781600-1598783400@saintpauls.org
SUMMARY:Back to School Blessing
DESCRIPTION:Back to School – Prayers & Blessing for our entire parish community\nSunday\, August 30\n\n\nWe all are aware that schooling this year is different\, that we are at the beginning of a new phase of our common life in the midst of the pandemic. This truth touches the lives all students from pre-K to graduate studies\, all teachers and instructors\, and all staff and administrators.\n\nThey need our support\, and we need ways to express our hopes and concerns for them at this time. In order to draw those we love into the powerful ministry of Christian prayer\, the Saint Paul’s community is invited to submit the names (first names only\, not read aloud in the Prayers of the People) of all persons—students and their friends\, teachers and their colleagues\, staff and administrators—for whom we desire God’s intercession and blessing.\n\nAll names submitted will be carried in a basket and placed upon the altar during the entrance procession. They will be offered to God with the Eucharistic elements and the week’s monetary offerings. Following the post-communion prayer\, we will bid God’s blessing upon them and our whole community.\n\nClick on this button below to offer as many names (first name only) as you wish.\n\n\n\n\nFOR FAMILIES with CHILDREN\, and for TEACHERS & EDUCATORS\n\nFamilies of school aged children and educators are invited to gather this Sunday online at 10:00 for a back to school prayer and blessing.\n\n\n\nBring the backpack tag or bookmark you received this weekend from the church plus any other gear you wish to have blessed–backpacks\, etc.–as special signs of God’s loving presence. Before our blessing\, we will name the things that we are excited about as we return to school as well as the things that we are nervous about. In prayer\, we will offer all of this into God’s care and keeping.\n\nThe letter enclosed with the tags and bookmarks included the Zoom meeting instructions and password\, but contact Maddy Elledge should you need access. The back of that letter included an at-home “Back to School” liturgy for you in case you cannot join us this Sunday.\n\n\n\nJoin Zoom \nOR from Zoom App\, Meeting ID: 366 090 592\nPASSWORD: Email Maddy Elledge to request.\n\n\nInquiries\, contact Fr. Jenkins.
URL:https://saintpauls.org/event/back-to-school-blessing/
LOCATION:605 Reynolds St.\, Augusta\, GA\, 30901
CATEGORIES:All ages,Children,Parents,Prayer,Youth
ATTACH;FMTTYPE=image/png:https://saintpauls.org/wp-content/uploads/2020/08/Back-to-school-blessing-square-compressed.png
END:VEVENT
END:VCALENDAR