BEGIN:VCALENDAR
VERSION:2.0
PRODID:-//Saint Paul&#039;s Church Augusta, GA - ECPv6.13.2.1//NONSGML v1.0//EN
CALSCALE:GREGORIAN
METHOD:PUBLISH
X-ORIGINAL-URL:https://saintpauls.org
X-WR-CALDESC:Events for Saint Paul&#039;s Church Augusta, GA
REFRESH-INTERVAL;VALUE=DURATION:PT1H
X-Robots-Tag:noindex
X-PUBLISHED-TTL:PT1H
BEGIN:VTIMEZONE
TZID:America/New_York
BEGIN:DAYLIGHT
TZOFFSETFROM:-0500
TZOFFSETTO:-0400
TZNAME:EDT
DTSTART:20180311T070000
END:DAYLIGHT
BEGIN:STANDARD
TZOFFSETFROM:-0400
TZOFFSETTO:-0500
TZNAME:EST
DTSTART:20181104T060000
END:STANDARD
BEGIN:DAYLIGHT
TZOFFSETFROM:-0500
TZOFFSETTO:-0400
TZNAME:EDT
DTSTART:20190310T070000
END:DAYLIGHT
BEGIN:STANDARD
TZOFFSETFROM:-0400
TZOFFSETTO:-0500
TZNAME:EST
DTSTART:20191103T060000
END:STANDARD
BEGIN:DAYLIGHT
TZOFFSETFROM:-0500
TZOFFSETTO:-0400
TZNAME:EDT
DTSTART:20200308T070000
END:DAYLIGHT
BEGIN:STANDARD
TZOFFSETFROM:-0400
TZOFFSETTO:-0500
TZNAME:EST
DTSTART:20201101T060000
END:STANDARD
BEGIN:DAYLIGHT
TZOFFSETFROM:-0500
TZOFFSETTO:-0400
TZNAME:EDT
DTSTART:20210314T070000
END:DAYLIGHT
BEGIN:STANDARD
TZOFFSETFROM:-0400
TZOFFSETTO:-0500
TZNAME:EST
DTSTART:20211107T060000
END:STANDARD
END:VTIMEZONE
BEGIN:VEVENT
DTSTART;TZID=America/New_York:20210711T103000
DTEND;TZID=America/New_York:20210711T104500
DTSTAMP:20260424T121852
CREATED:20210705T163517Z
LAST-MODIFIED:20210705T163517Z
UID:18532-1625999400-1626000300@saintpauls.org
SUMMARY:Second Sunday Birthday Celebration
DESCRIPTION:ALL are invited to our brief\, but joyful celebration for all whose birthdays fall in June and July\, Sunday\, July 11\, 10:30-10:45 AM\, in the churchyard. Come\, sing\, and share a cupcake with your parish family.
URL:https://saintpauls.org/event/second-sunday-birthday-celebration/
LOCATION:Churchyard
CATEGORIES:Adult,All ages,Children,Parents,Parish Life,Young Adult,Youth
ATTACH;FMTTYPE=image/png:https://saintpauls.org/wp-content/uploads/2021/07/Birthday-Sunday-square.png
END:VEVENT
BEGIN:VEVENT
DTSTART;TZID=America/New_York:20210110T123000
DTEND;TZID=America/New_York:20210110T140000
DTSTAMP:20260424T121852
CREATED:20190125T231219Z
LAST-MODIFIED:20201231T183035Z
UID:7417-1610281800-1610287200@saintpauls.org
SUMMARY:Annual Meeting 2021
DESCRIPTION:Our parish Annual Meeting will be held online via Zoom and will follow a modified timeline due to the pandemic. In consultation with our parish chancellor\, the Vestry adopted the following plan at its December meeting to conduct our parish business which includes voting to fill three vestry positions\, one warden\, and receiving financial and ministry reports. \nNominations are open until the process closes at the Annual Meeting. Should more than three nominees run for vestry as has been the case in recent years\, we will use a mail-in ballot process. Access a full account of the voting process from our “Weekly Postings” online newsletter\, website\, or contact the Parish Administrator to request a printed version. If you have any questions\, do not hesitate to contact a member of your Vestry or Clergy. \nAnnual Meeting\nSunday\, January 10\, 12:30 p.m. \nJoin Zoom\nOR from Zoom App\, Meeting ID: 595 177 454\nOR phone-in: (646) 876-9923 \nPASSWORD: Email Maddy Elledge to request.
URL:https://saintpauls.org/event/annual-meeting-brunch/
LOCATION:605 Reynolds St.\, Augusta\, GA\, 30901
CATEGORIES:Parish Life
ATTACH;FMTTYPE=image/png:https://saintpauls.org/wp-content/uploads/2020/04/saint-pauls-church-pen-and-ink.png
END:VEVENT
BEGIN:VEVENT
DTSTART;TZID=America/New_York:20201129T130000
DTEND;TZID=America/New_York:20201129T140000
DTSTAMP:20260424T121852
CREATED:20201120T213528Z
LAST-MODIFIED:20201120T220854Z
UID:16080-1606654800-1606658400@saintpauls.org
SUMMARY:Make an Advent Wreath for your Home
DESCRIPTION:On the first Sunday of Advent\, November 29\, the Parish Office will have Advent Wreath kits available for you to put together at home. All supplies will be provided\, including wreaths\, live greens\, and candles. The kits are $15. Donations are accepted. Supplies are limited; a RSVP is required on SignUp Genius or by calling Hannah Gosney in the Parish Office (706) 724-2485 ext. 203 to reserve your wreath kit. Please contact the Parish office if you are unable to pick up your wreath during this time.
URL:https://saintpauls.org/event/make-an-advent-wreath-for-your-home/
LOCATION:605 Reynolds St.\, Augusta\, GA\, 30901
CATEGORIES:Advent,All ages,Children,Parents,Parish Life
ATTACH;FMTTYPE=image/jpeg:https://saintpauls.org/wp-content/uploads/2020/11/Advent-Wreath.jpg
END:VEVENT
BEGIN:VEVENT
DTSTART;TZID=America/New_York:20201108T103500
DTEND;TZID=America/New_York:20201108T105000
DTSTAMP:20260424T121852
CREATED:20200926T215533Z
LAST-MODIFIED:20201009T172913Z
UID:15392-1604831700-1604832600@saintpauls.org
SUMMARY:Birthday Sunday (Online)
DESCRIPTION:Second Sunday Birthday Celebration\n 10:35 – 10:50 AM\, Zoom  \nALL are invited to our brief\, but joyful celebration for all whose birthdays fall in November\, Sunday\, November 8\, 10:35-10:50 AM.  Join us during Coffee and Conversation now on Zoom! \nJoin Zoom\nOR from Zoom App\, Meeting ID: 860 972 849\nOR phone-in: (646) 876-9923
URL:https://saintpauls.org/event/birthday-sunday-35/
LOCATION:605 Reynolds St.\, Augusta\, GA\, 30901
CATEGORIES:Church on-line,Parish Life
ATTACH;FMTTYPE=image/png:https://saintpauls.org/wp-content/uploads/2020/07/Birthday-Sunday-Coffee-square.png
END:VEVENT
BEGIN:VEVENT
DTSTART;TZID=America/New_York:20201011T103500
DTEND;TZID=America/New_York:20201011T105000
DTSTAMP:20260424T121852
CREATED:20200926T215417Z
LAST-MODIFIED:20201009T172832Z
UID:15393-1602412500-1602413400@saintpauls.org
SUMMARY:Birthday Sunday (Online)
DESCRIPTION:Second Sunday Birthday Celebration\n 10:35 – 10:50 AM\, Zoom  \nALL are invited to our brief\, but joyful celebration for all whose birthdays fall in October\, Sunday\, October 11\, 10:35-10:50 AM.  Join us during Coffee and Conversation now on Zoom! \nJoin Zoom\nOR from Zoom App\, Meeting ID: 860 972 849\nOR phone-in: (646) 876-9923
URL:https://saintpauls.org/event/birthday-sunday-34/
LOCATION:Saint Paul’s Church On-line\, 605 Reynolds St.\, Augusta\, GA\, 30901
CATEGORIES:Church on-line,Parish Life
ATTACH;FMTTYPE=image/png:https://saintpauls.org/wp-content/uploads/2020/07/Birthday-Sunday-Coffee-square.png
END:VEVENT
BEGIN:VEVENT
DTSTART;TZID=America/New_York:20200913T103500
DTEND;TZID=America/New_York:20200913T105000
DTSTAMP:20260424T121852
CREATED:20200801T143437Z
LAST-MODIFIED:20200926T215905Z
UID:14356-1599993300-1599994200@saintpauls.org
SUMMARY:Birthday Sunday
DESCRIPTION:Second Sunday Birthday Celebration\n 10:35 – 10:50 AM\, Zoom  \nALL are invited to our brief\, but joyful celebration for all whose birthdays fall in September\, Sunday\, September 13\, 10:35-10:50 AM.  Join us during Coffee and Conversation now on Zoom! \nJoin Zoom\nOR from Zoom App\, Meeting ID: 860 972 849\nOR phone-in: (646) 876-9923
URL:https://saintpauls.org/event/birthday-sunday-33/
LOCATION:605 Reynolds St.\, Augusta\, GA\, 30901
CATEGORIES:Church on-line,Parish Life
ATTACH;FMTTYPE=image/png:https://saintpauls.org/wp-content/uploads/2020/07/Birthday-Sunday-Coffee-square.png
END:VEVENT
BEGIN:VEVENT
DTSTART;TZID=America/New_York:20200809T103500
DTEND;TZID=America/New_York:20200809T105000
DTSTAMP:20260424T121852
CREATED:20200719T213711Z
LAST-MODIFIED:20200731T160925Z
UID:14274-1596969300-1596970200@saintpauls.org
SUMMARY:Birthday Sunday
DESCRIPTION:Second Sunday Birthday Celebration\n 10:35 – 10:50 AM\, Zoom  \nALL are invited to our brief\, but joyful celebration for all whose birthdays fall in August\, Sunday\, August 9\, 10:35-10:50 AM.  Join us during Coffee and Conversation now on Zoom! \nJoin Zoom\nOR from Zoom App\, Meeting ID: 860 972 849\nOR phone-in: (646) 876-9923
URL:https://saintpauls.org/event/birthday-sunday-32/
LOCATION:605 Reynolds St.\, Augusta\, GA\, 30901
CATEGORIES:Church on-line,Parish Life
ATTACH;FMTTYPE=image/png:https://saintpauls.org/wp-content/uploads/2020/07/Birthday-Sunday-Coffee-square.png
END:VEVENT
BEGIN:VEVENT
DTSTART;TZID=America/New_York:20200415T180000
DTEND;TZID=America/New_York:20200415T190000
DTSTAMP:20260424T121852
CREATED:20200411T221743Z
LAST-MODIFIED:20200522T221855Z
UID:13241-1586973600-1586977200@saintpauls.org
SUMMARY:Canterbury Choir - Just for fun Drop-In
DESCRIPTION:Join Zoom\nOR from Zoom App\, Meeting ID: 859 002 714\nOR phone-in: (646) 876-9923\n\nPASSWORD: Email Maddy Elledge to request.\n\n\n\n\n\n\n\n\n\n\n\n\n\n\n\nJust for fun\, the Canterbury choir is gathering online to catch up and connect with each at their regular rehearsal time\, Wednesdays at 6 p.m.
URL:https://saintpauls.org/event/canterbury-choir-just-for-fun-drop-in/
LOCATION:605 Reynolds St.\, Augusta\, GA\, 30901
CATEGORIES:Children,Parish Life,Youth
ATTACH;FMTTYPE=image/png:https://saintpauls.org/wp-content/uploads/2020/04/Canterbury-Choir-1-e1586555416342.png
END:VEVENT
BEGIN:VEVENT
DTSTART;TZID=America/New_York:20200301T183000
DTEND;TZID=America/New_York:20200301T193000
DTSTAMP:20260424T121852
CREATED:20200217T232849Z
LAST-MODIFIED:20200301T231224Z
UID:11414-1583087400-1583091000@saintpauls.org
SUMMARY:Evensong Reception
DESCRIPTION:Evensong Reception Hospitality\nSign up now for March 1\, 6:30 PM Reception \nOur memorable receptions are made possible by a combination of delicious foods and motivated individuals wanting to extend hospitality to all those who walk through our church doors! The Parish Life & Hospitality Committee invites you to make or purchase a finger food or beverage for the Spring Evensong reception immediately following the Evensong service at 5:30 PM\, Sunday\, March 1. You may drop off your cold or room temp food items (including items that need to be reheated – please include directions) in the River Room kitchen between morning services or after the 11 AM service on March 1st. Hot food should be delivered warm to the River Room kitchen before the Evensong service. We ask that you deliver your items on disposable serving ware\, and we will plate them for the reception. Please include your name on any items you need returned. If you prefer to make a monetary donation\, please make your check payable to Saint Paul’s Church and annotate it for the “Evensong Reception.”For more information billford.saintpauls@gmail.com. As always\, we need teams to help set up\, serve\, and clean up. Please sign up below. \nSIGN UP HERE
URL:https://saintpauls.org/event/evensong-reception-4/
LOCATION:Tyler Hall
CATEGORIES:Parish Life
END:VEVENT
BEGIN:VEVENT
DTSTART;TZID=America/New_York:20191222T120000
DTEND;TZID=America/New_York:20191222T123000
DTSTAMP:20260424T121852
CREATED:20191217T053746Z
LAST-MODIFIED:20191222T071052Z
UID:10707-1577016000-1577017800@saintpauls.org
SUMMARY:Children's reception
DESCRIPTION:Join us following the 11 AM service for a special reception hosted by our children and their families.  We will have a hot chocolate bar as well as finger foods.  This is the perfect time to tell your favorite little “Friendly Beasts” what a joy it is to share moments like this with them!
URL:https://saintpauls.org/event/childrens-reception/
LOCATION:605 Reynolds St.\, Augusta\, GA\, 30901
CATEGORIES:Advent,All ages,Children,Parish Life
END:VEVENT
BEGIN:VEVENT
DTSTART;TZID=America/New_York:20191221T180000
DTEND;TZID=America/New_York:20191222T180000
DTSTAMP:20260424T121852
CREATED:20191218T182521Z
LAST-MODIFIED:20191218T182521Z
UID:10743-1576951200-1577037600@saintpauls.org
SUMMARY:Youth Lock-in
DESCRIPTION:EYC (Episcopal Youth Community\, grades 6-12 only)\, mark your calendars for a holiday theme lock-in Saturday\, December 21\, 6 pm to Sunday morning 11 am service. Dinner and breakfast will be served. Bring your sleeping bag\, toothbrush\, and a white elephant gift to exchange (maximum price $10). A RSVP is required. Contact Todd Shafer at williamtshafer@gmail.com.
URL:https://saintpauls.org/event/youth-lock-in/
LOCATION:605 Reynolds St.\, Augusta\, GA\, 30901
CATEGORIES:Parish Life,Youth
END:VEVENT
BEGIN:VEVENT
DTSTART;TZID=America/New_York:20191218T180000
DTEND;TZID=America/New_York:20191218T190000
DTSTAMP:20260424T121852
CREATED:20191202T013323Z
LAST-MODIFIED:20191218T181931Z
UID:10516-1576692000-1576695600@saintpauls.org
SUMMARY:Wednesday Night Fellowship Dinner
DESCRIPTION:Join us for our monthly fellowship dinner\, Wednesday\, December 18\, 6-7 pm in the River Room. On the menu: seared chicken breast with mushroom bacon cream sauce\, home-style mashed potatoes\, sauteed zucchini squash and onions\, salad and dessert. $5 per person; $15 max per family. A reservation is not required; however\, if you know you plan to attend\, please RSVP using our sign up on the Saint Paul’s website or by email to Todd Shafer at williamtshafer@gmail.com so that we can be the best hosts.
URL:https://saintpauls.org/event/wednesday-night-fellowship-dinner-31/
LOCATION:River Room  at Saint Paul’s
CATEGORIES:All ages,Parish Life,Sign Up
END:VEVENT
BEGIN:VEVENT
DTSTART;TZID=America/New_York:20191127T173000
DTEND;TZID=America/New_York:20191127T190000
DTSTAMP:20260424T121852
CREATED:20191111T182101Z
LAST-MODIFIED:20191126T234422Z
UID:10237-1574875800-1574881200@saintpauls.org
SUMMARY:Wednesday Night Fellowship Dinner
DESCRIPTION:This month our Wednesday Night Fellowship Dinner precedes our Thanksgiving Eve service\, Wednesday\, November 27\, 5:30-6:50 PM\, in the River Room. (Note the change of date and time for this month only). \nPlease join us for a wonderful evening with your parish family as we give thanks for our many blessings. On the menu: mixed green salad\, beef stroganoff\, honey-glazed carrots\, and caramel chocolate brownies. $5 per person; $15 max per family. Please RSVP HERE or by email to Todd Shafer
URL:https://saintpauls.org/event/wednesday-night-fellowship-dinner-30/
LOCATION:River Room  at Saint Paul’s
CATEGORIES:All ages,Parish Life,Thanksgiving
END:VEVENT
BEGIN:VEVENT
DTSTART;TZID=America/New_York:20190707T120000
DTEND;TZID=America/New_York:20190707T133000
DTSTAMP:20260424T121852
CREATED:20190615T214020Z
LAST-MODIFIED:20190707T033653Z
UID:8689-1562500800-1562506200@saintpauls.org
SUMMARY:Parish BBQ
DESCRIPTION:Parish Barbecue \nJuly 7\, The River Room  \nFollowing our Independence Day service\, we will gather in the River Room for a BBQ Parish Dinner. Come share your BBQ pork\, chicken\, or beef specialty. If the smoker or grill is not your passion\, bring your favorite side dish to share! \n  \nContact Todd Shafer \n  \nSign up to help set up or clean up here.
URL:https://saintpauls.org/event/parish-bbq/
LOCATION:River Room
CATEGORIES:Independence Day,Parish Life
END:VEVENT
BEGIN:VEVENT
DTSTART;TZID=America/New_York:20190505T120000
DTEND;TZID=America/New_York:20190505T133000
DTSTAMP:20260424T121852
CREATED:20190427T182235Z
LAST-MODIFIED:20190505T200245Z
UID:8269-1557057600-1557063000@saintpauls.org
SUMMARY:Homecoming Lunch
DESCRIPTION:Saint Paul’s will be celebrating its 100th year Consecration of the Church and Homecoming on Sunday\, May 5th\, 2019. We will meet in the River Room following the 11 AM service to share a meal and greet old friends. Bring a dish or dessert that would have been served at a potluck 100 years ago! We look forward to fellowship\, food\, and fun! Questions\, Call Claudia Figueroa. \nAs always we need a team to help set up\, serve\, and clean up! Please sign up here.
URL:https://saintpauls.org/event/homecoming-lunch/
LOCATION:River Room at Saint Paul’s
CATEGORIES:100th Anniversary Celebration,All ages,Parish Life
END:VEVENT
BEGIN:VEVENT
DTSTART;TZID=America/New_York:20190421T100000
DTEND;TZID=America/New_York:20190421T101500
DTSTAMP:20260424T121852
CREATED:20190409T200503Z
LAST-MODIFIED:20190409T200503Z
UID:8092-1555840800-1555841700@saintpauls.org
SUMMARY:Annual Easter Egg Hunt
DESCRIPTION:The Annual Easter Egg Hunt on the Lawn immediately follows the 9 AM service.  We will meet on the front steps for the annual picture prior to dividing into groups by age for the hunt. Don’t forget your basket!
URL:https://saintpauls.org/event/annual-easter-egg-hunt/
LOCATION:GA\, United States
CATEGORIES:Children,Easter,Parish Life
ATTACH;FMTTYPE=image/png:https://saintpauls.org/wp-content/uploads/2019/04/Easter-Egg-Hunt-2018.png
END:VEVENT
BEGIN:VEVENT
DTSTART;TZID=America/New_York:20190417T180000
DTEND;TZID=America/New_York:20190417T190000
DTSTAMP:20260424T121852
CREATED:20190321T003734Z
LAST-MODIFIED:20190417T140308Z
UID:7903-1555524000-1555527600@saintpauls.org
SUMMARY:Wednesday Night Fellowship Dinner
DESCRIPTION:Join us for our monthly fellowship dinner\, Wednesday\, April 17\, 6-7 PM\, in the River Room. This month’s menu will be available next week. $5 per person; $15 max per family. A reservation is not required; however\, if you know you plan to attend\, please RSVP on our sign-up genius.   Questions? Contact Todd Shafer. All are encouraged to participate in Compline\, a simple and brief Night Prayer service\, immediately follows in the chapel\, 7-7:15 PM.
URL:https://saintpauls.org/event/wednesday-night-fellowship-dinner-20/
LOCATION:Saint Paul’s Church River Room
CATEGORIES:All ages,Parish Life
ATTACH;FMTTYPE=image/png:https://saintpauls.org/wp-content/uploads/2018/11/Square-Fellowship-Dinner-e1544219880983.png
END:VEVENT
BEGIN:VEVENT
DTSTART;TZID=America/New_York:20190305T180000
DTEND;TZID=America/New_York:20190305T193000
DTSTAMP:20260424T121852
CREATED:20190305T160157Z
LAST-MODIFIED:20190305T195436Z
UID:7768-1551808800-1551814200@saintpauls.org
SUMMARY:Shrove Tuesday Pancake Dinner
DESCRIPTION:The men of Saint Paul’s will host this year’s Pancake Supper\, Tuesday\, March 5\, 6-7:30 PM\, in the River Room. Come try out our pancakes – blueberry\, chocolate\, banana. $5 per person\, $15 family. RSVP using our sign up genius link on the website. Men\, please contact Jonathan Flanagan\, if you wish to volunteer your services. Or\, check out sign up genius on Saint Paul’s website to volunteer for this event.
URL:https://saintpauls.org/event/shrove-tuesday-pancake-dinner/
LOCATION:605 Reynolds St.\, Augusta\, GA\, 30901
CATEGORIES:All ages,Parish Life
ATTACH;FMTTYPE=image/png:https://saintpauls.org/wp-content/uploads/2019/03/Shrove-Tuesday-Pancake-Supper-square.png
END:VEVENT
BEGIN:VEVENT
DTSTART;TZID=America/New_York:20190224T120000
DTEND;TZID=America/New_York:20190224T133000
DTSTAMP:20260424T121852
CREATED:20190130T181601Z
LAST-MODIFIED:20190130T181601Z
UID:7465-1551009600-1551015000@saintpauls.org
SUMMARY:"Share your Chili Sunday"
DESCRIPTION:February is the perfect time for a chili lunch! The Parish Life Committee invites you to bring your favorite chili to church on Sunday\, February 24\, unofficially “Share Your Chili Sunday.” We’ll meet in the River Room with friends following the 11 AM service to taste some of the best chili Saint Paul’s has to offer. Whether it is beef chili\, chicken chili\, veggie chili\, spicy or mild\, we love it all. If chili is not your specialty\, no worries\, bring a topping\, side\, or dessert. We look forward to fellowship\, food\, and fun!  Questions\, contact Todd Shafer. \nAs always we need a team to help set up\, serve\, and clean up.  Please sign up here.
URL:https://saintpauls.org/event/share-your-chili-sunday/
LOCATION:605 Reynolds St.\, Augusta\, GA\, 30901
CATEGORIES:Adult,All ages,Children,Parish Life,Young Adult,Youth
END:VEVENT
BEGIN:VEVENT
DTSTART;TZID=America/New_York:20181219T180000
DTEND;TZID=America/New_York:20181219T190000
DTSTAMP:20260424T121852
CREATED:20181123T222845Z
LAST-MODIFIED:20181219T051706Z
UID:6863-1545242400-1545246000@saintpauls.org
SUMMARY:Wednesday Night Fellowship Dinner
DESCRIPTION:Join us for our monthly fellowship dinner\, Wednesday\, December 19\, 6-7 PM\, in Tyler Hall. On the menu: hearty beef stew\, rice\, cornbread\, and dessert. $5 per person; $15 max per family. A reservation is not required; however\, if you know you plan to attend\, please RSVP to Todd Shafer
URL:https://saintpauls.org/event/wednesday-night-fellowship-dinner-15/
LOCATION:Tyler Hall
CATEGORIES:Parish Life
ATTACH;FMTTYPE=image/png:https://saintpauls.org/wp-content/uploads/2018/11/Square-Fellowship-Dinner-e1544219880983.png
END:VEVENT
END:VCALENDAR