BEGIN:VCALENDAR
VERSION:2.0
PRODID:-//Saint Paul&#039;s Church Augusta, GA - ECPv6.13.2.1//NONSGML v1.0//EN
CALSCALE:GREGORIAN
METHOD:PUBLISH
X-WR-CALNAME:Saint Paul&#039;s Church Augusta, GA
X-ORIGINAL-URL:https://saintpauls.org
X-WR-CALDESC:Events for Saint Paul&#039;s Church Augusta, GA
REFRESH-INTERVAL;VALUE=DURATION:PT1H
X-Robots-Tag:noindex
X-PUBLISHED-TTL:PT1H
BEGIN:VTIMEZONE
TZID:America/New_York
BEGIN:DAYLIGHT
TZOFFSETFROM:-0500
TZOFFSETTO:-0400
TZNAME:EDT
DTSTART:20180311T070000
END:DAYLIGHT
BEGIN:STANDARD
TZOFFSETFROM:-0400
TZOFFSETTO:-0500
TZNAME:EST
DTSTART:20181104T060000
END:STANDARD
BEGIN:DAYLIGHT
TZOFFSETFROM:-0500
TZOFFSETTO:-0400
TZNAME:EDT
DTSTART:20190310T070000
END:DAYLIGHT
BEGIN:STANDARD
TZOFFSETFROM:-0400
TZOFFSETTO:-0500
TZNAME:EST
DTSTART:20191103T060000
END:STANDARD
BEGIN:DAYLIGHT
TZOFFSETFROM:-0500
TZOFFSETTO:-0400
TZNAME:EDT
DTSTART:20200308T070000
END:DAYLIGHT
BEGIN:STANDARD
TZOFFSETFROM:-0400
TZOFFSETTO:-0500
TZNAME:EST
DTSTART:20201101T060000
END:STANDARD
END:VTIMEZONE
BEGIN:VEVENT
DTSTART;TZID=America/New_York:20201223T130000
DTEND;TZID=America/New_York:20201223T150000
DTSTAMP:20260424T171604
CREATED:20201009T171049Z
LAST-MODIFIED:20201220T220639Z
UID:16428-1608728400-1608735600@saintpauls.org
SUMMARY:Sacred Space at Saint Paul's
DESCRIPTION:Sacred Space is an opportunity for you to be in your church’s sacred space to rest and pray.  You will be provided with a simple Order of Service to guide your prayers\, but pray according to your practice and however fulfills your needs for your own sacred time and space.\n\nPlease note that during this time\, we ask that everyone sign up to attend as each time is limited in the number of participants. You will be required to submit your email address for contact tracing.\n\nMasks are kindly required by all individuals at all times. You will receive a follow up email with more details on additional guidelines.\n\nSign-up online here:\n\nFor more information\, please contact the parish office.
URL:https://saintpauls.org/event/sacred-space-at-saint-pauls-2021-02-19/
LOCATION:605 Reynolds St.\, Augusta\, GA\, 30901
CATEGORIES:Prayer
ATTACH;FMTTYPE=image/jpeg:https://saintpauls.org/wp-content/uploads/2020/10/church-window-1-resized.jpg
END:VEVENT
BEGIN:VEVENT
DTSTART;TZID=America/New_York:20200830T100000
DTEND;TZID=America/New_York:20200830T103000
DTSTAMP:20260424T171604
CREATED:20200822T205921Z
LAST-MODIFIED:20200828T200802Z
UID:14702-1598781600-1598783400@saintpauls.org
SUMMARY:Back to School Blessing
DESCRIPTION:Back to School – Prayers & Blessing for our entire parish community\nSunday\, August 30\n\n\nWe all are aware that schooling this year is different\, that we are at the beginning of a new phase of our common life in the midst of the pandemic. This truth touches the lives all students from pre-K to graduate studies\, all teachers and instructors\, and all staff and administrators.\n\nThey need our support\, and we need ways to express our hopes and concerns for them at this time. In order to draw those we love into the powerful ministry of Christian prayer\, the Saint Paul’s community is invited to submit the names (first names only\, not read aloud in the Prayers of the People) of all persons—students and their friends\, teachers and their colleagues\, staff and administrators—for whom we desire God’s intercession and blessing.\n\nAll names submitted will be carried in a basket and placed upon the altar during the entrance procession. They will be offered to God with the Eucharistic elements and the week’s monetary offerings. Following the post-communion prayer\, we will bid God’s blessing upon them and our whole community.\n\nClick on this button below to offer as many names (first name only) as you wish.\n\n\n\n\nFOR FAMILIES with CHILDREN\, and for TEACHERS & EDUCATORS\n\nFamilies of school aged children and educators are invited to gather this Sunday online at 10:00 for a back to school prayer and blessing.\n\n\n\nBring the backpack tag or bookmark you received this weekend from the church plus any other gear you wish to have blessed–backpacks\, etc.–as special signs of God’s loving presence. Before our blessing\, we will name the things that we are excited about as we return to school as well as the things that we are nervous about. In prayer\, we will offer all of this into God’s care and keeping.\n\nThe letter enclosed with the tags and bookmarks included the Zoom meeting instructions and password\, but contact Maddy Elledge should you need access. The back of that letter included an at-home “Back to School” liturgy for you in case you cannot join us this Sunday.\n\n\n\nJoin Zoom \nOR from Zoom App\, Meeting ID: 366 090 592\nPASSWORD: Email Maddy Elledge to request.\n\n\nInquiries\, contact Fr. Jenkins.
URL:https://saintpauls.org/event/back-to-school-blessing/
LOCATION:605 Reynolds St.\, Augusta\, GA\, 30901
CATEGORIES:All ages,Children,Parents,Prayer,Youth
ATTACH;FMTTYPE=image/png:https://saintpauls.org/wp-content/uploads/2020/08/Back-to-school-blessing-square-compressed.png
END:VEVENT
BEGIN:VEVENT
DTSTART;TZID=America/New_York:20200408T193000
DTEND;TZID=America/New_York:20200408T195500
DTSTAMP:20260424T171604
CREATED:20200407T143609Z
LAST-MODIFIED:20200407T160821Z
UID:12123-1586374200-1586375700@saintpauls.org
SUMMARY:Praying Together: Compline Tutorial
DESCRIPTION:Praying Together\nAn online clergy-led teaching series to help members grow in their understanding and practice of praying the daily prayer services of our church. We encourage every member to obtain The Book of Common Prayer (BCP).\n\nJoin Praying Together Zoom meetings here\nOR Zoom App\, Meeting ID: 595 177 454\nOR phone-in: (646) 876-9923\nPASSWORD: Email Maddy Elledge to request.\n\nMonday\, April 6: Noonday Prayer Tutorial\n11:30 – 11:55 a.m.; Noonday Prayer at 12 p.m.\n\n\nTuesday\, April 7: Morning Prayer Tutorial\n9 a.m.\n\nWednesday\, April 8: Compline Tutorial\n7:30 – 7:55 p.m.; Compline at 8 p.m.
URL:https://saintpauls.org/event/praying-together-compline-tutorial/
LOCATION:605 Reynolds St.\, Augusta\, GA\, 30901
CATEGORIES:Christian Formation,Church on-line,Prayer,Spiritual Practice
END:VEVENT
BEGIN:VEVENT
DTSTART;TZID=America/New_York:20200407T090000
DTEND;TZID=America/New_York:20200407T095500
DTSTAMP:20260424T171604
CREATED:20200407T143139Z
LAST-MODIFIED:20200407T161057Z
UID:12120-1586250000-1586253300@saintpauls.org
SUMMARY:Praying Together: Morning Prayer Tutorial
DESCRIPTION:Praying Together\nAn online clergy-led teaching series to help members grow in their understanding and practice of praying the daily prayer services of our church. We encourage every member to obtain The Book of Common Prayer (BCP).\n\nJoin Praying Together Zoom meetings here\nOR Zoom App\, Meeting ID: 595 177 454\nOR phone-in: (646) 876-9923\nPASSWORD: Email Maddy Elledge to request.\n\nMonday\, April 6: Noonday Prayer Tutorial\n11:30 – 11:55 a.m.; Noonday Prayer at 12 p.m.\n\nTuesday\, April 7: Morning Prayer Tutorial\n9 a.m.\n\nWednesday\, April 8: Compline Tutorial\n7:30 – 7:55 p.m.; Compline at 8 p.m.
URL:https://saintpauls.org/event/praying-together-morning-prayer-tutorial/
LOCATION:605 Reynolds St.\, Augusta\, GA\, 30901
CATEGORIES:Christian Formation,Church on-line,Prayer,Spiritual Practice
END:VEVENT
BEGIN:VEVENT
DTSTART;TZID=America/New_York:20200406T113000
DTEND;TZID=America/New_York:20200406T115500
DTSTAMP:20260424T171604
CREATED:20200407T142940Z
LAST-MODIFIED:20200407T161120Z
UID:12117-1586172600-1586174100@saintpauls.org
SUMMARY:Praying Together: Monday\, Noonday Prayer Tutorial
DESCRIPTION:Praying Together\nAn online clergy-led teaching series to help members grow in their understanding and practice of praying the daily prayer services of our church. We encourage every member to obtain The Book of Common Prayer (BCP).\n\nJoin Praying Together Zoom meetings here\nOR Zoom App\, Meeting ID: 595 177 454\nOR phone-in: (646) 876-9923\nPASSWORD: Email Maddy Elledge to request.\n\nMonday\, April 6: Noonday Prayer Tutorial\n11:30 – 11:55 a.m.; Noonday Prayer at 12 p.m.\n\nTuesday\, April 7: Morning Prayer Tutorial\n9 a.m.\n\nWednesday\, April 8: Compline Tutorial\n7:30 – 7:55 p.m.; Compline at 8 p.m.
URL:https://saintpauls.org/event/praying-together-monday-noonday-prayer-tutorial/
LOCATION:605 Reynolds St.\, Augusta\, GA\, 30901
CATEGORIES:Christian Formation,Church on-line,Prayer,Spiritual Practice
END:VEVENT
BEGIN:VEVENT
DTSTART;TZID=America/New_York:20191218T190000
DTEND;TZID=America/New_York:20191218T191500
DTSTAMP:20260424T171604
CREATED:20191202T013323Z
LAST-MODIFIED:20191218T175056Z
UID:10517-1576695600-1576696500@saintpauls.org
SUMMARY:Compline
DESCRIPTION:Compline – closing prayers for the day\nWednesday\, December 18\, 7 – 7:15 PM\nThe Chapel of St. Peter & St. Paul  \n “The Lord Almighty\, grant us a peaceful night and a perfect end.” \nBring your mid-week evening to a prayerful close in a still\, candlelit sacred space with one another and God. Compline is a much beloved\, simple prayer service for the end of the day. It also may be observed in private at the end of your day and is found on p.127-135 in The Book of Common Prayer.
URL:https://saintpauls.org/event/compline-14/
LOCATION:Chapel of St. Peter and St. Paul
CATEGORIES:Advent,Prayer,Special Services,Spiritual Practice,Worship Services
END:VEVENT
BEGIN:VEVENT
DTSTART;TZID=America/New_York:20181209T160000
DTEND;TZID=America/New_York:20181209T170000
DTSTAMP:20260424T171604
CREATED:20181204T213605Z
LAST-MODIFIED:20181204T214006Z
UID:6954-1544371200-1544374800@saintpauls.org
SUMMARY:Advent Labyrinth Walk
DESCRIPTION:You are invited this Second Sunday of Advent\, December 9\,  4 PM to a very special labyrinth walk as we wait and walk in anticipation of the birth of Our Savior\, Jesus Christ. We will be using the new labyrinth created as a gift to Saint Paul’s by John Cook. Belinda Peebles\, who is a Certified Labyrinth Facilitator\, will lead us through this spiritual practice in the Berlin Room. Belinda was trained at the Cathedral of Our Lady at Chartres in Northern France. All are welcome. No previous experience with walking a labyrinth required. Brief instructions will be given prior to the walk. For more information about labyrinths\, please visit www.veriditas.org. \nFollowing the walk\, you’re invited to join the Daughters of the King in Tyler Hall for hot cider and ginger goodies and to stay for Celtic Evening Prayer & Communion service beginning at 5:30 PM. \nFor questions about the walk\, please contact Suzanne Pursely-Crotteau.
URL:https://saintpauls.org/event/advent-labyrinth-walk/
LOCATION:605 Reynolds St.\, Augusta\, GA\, 30901
CATEGORIES:Advent,Christian Formation,Daughters of the King,Prayer,Spiritual Practice
END:VEVENT
END:VCALENDAR