BEGIN:VCALENDAR
VERSION:2.0
PRODID:-//Saint Paul&#039;s Church Augusta, GA - ECPv6.13.2.1//NONSGML v1.0//EN
CALSCALE:GREGORIAN
METHOD:PUBLISH
X-WR-CALNAME:Saint Paul&#039;s Church Augusta, GA
X-ORIGINAL-URL:https://saintpauls.org
X-WR-CALDESC:Events for Saint Paul&#039;s Church Augusta, GA
REFRESH-INTERVAL;VALUE=DURATION:PT1H
X-Robots-Tag:noindex
X-PUBLISHED-TTL:PT1H
BEGIN:VTIMEZONE
TZID:America/New_York
BEGIN:DAYLIGHT
TZOFFSETFROM:-0500
TZOFFSETTO:-0400
TZNAME:EDT
DTSTART:20180311T070000
END:DAYLIGHT
BEGIN:STANDARD
TZOFFSETFROM:-0400
TZOFFSETTO:-0500
TZNAME:EST
DTSTART:20181104T060000
END:STANDARD
BEGIN:DAYLIGHT
TZOFFSETFROM:-0500
TZOFFSETTO:-0400
TZNAME:EDT
DTSTART:20190310T070000
END:DAYLIGHT
BEGIN:STANDARD
TZOFFSETFROM:-0400
TZOFFSETTO:-0500
TZNAME:EST
DTSTART:20191103T060000
END:STANDARD
BEGIN:DAYLIGHT
TZOFFSETFROM:-0500
TZOFFSETTO:-0400
TZNAME:EDT
DTSTART:20200308T070000
END:DAYLIGHT
BEGIN:STANDARD
TZOFFSETFROM:-0400
TZOFFSETTO:-0500
TZNAME:EST
DTSTART:20201101T060000
END:STANDARD
BEGIN:DAYLIGHT
TZOFFSETFROM:-0500
TZOFFSETTO:-0400
TZNAME:EDT
DTSTART:20210314T070000
END:DAYLIGHT
BEGIN:STANDARD
TZOFFSETFROM:-0400
TZOFFSETTO:-0500
TZNAME:EST
DTSTART:20211107T060000
END:STANDARD
END:VTIMEZONE
BEGIN:VEVENT
DTSTART;TZID=America/New_York:20210828T083000
DTEND;TZID=America/New_York:20210828T123000
DTSTAMP:20260424T193313
CREATED:20210731T112903Z
LAST-MODIFIED:20210731T114309Z
UID:18993-1630139400-1630153800@saintpauls.org
SUMMARY:Master's Table Soup Kitchen
DESCRIPTION:Saint Paul’s will resume volunteering at the Master’s Table Soup Kitchen on Fenwick Street Saturday\, August 28th to prepare 350 hot meals. This is an excellent opportunity to get to know other Saint Paul’s parishioners while serving our neighbors. Two teams share the responsibility on Saturdays. The prep team (18+ yrs. old) volunteers from 8:30 to 10:30 a.m. slicing\, dicing\, and cooking. From 10:30 a.m. to 12:30 p.m. the serving team of 12 volunteers (13+ yrs. old) serves guest in a cafeteria style line and cleans tables and floors following the lunch. Our greatest need is for servers from 10:30 a.m. to 12:30 p.m. If you are interested\, please contact Laraine or Al Yarbrough before July 31\, or by telephone call Al at (706) 840-9191 or Laraine at (706) 339-2198.
URL:https://saintpauls.org/event/masters-table-soup-kitchen-6/
LOCATION:Master’s Table Soup Kitchen\, 702 Fenwick St\, Augusta\, GA\, 30901\, United States
CATEGORIES:Adult,Outreach,Young Adult,Youth
END:VEVENT
BEGIN:VEVENT
DTSTART;TZID=America/New_York:20210717T090000
DTEND;TZID=America/New_York:20210717T113000
DTSTAMP:20260424T193313
CREATED:20210705T164243Z
LAST-MODIFIED:20210726T190205Z
UID:18538-1626512400-1626521400@saintpauls.org
SUMMARY:Manna Pantry Distribution
DESCRIPTION:Manna Pantry is an outreach ministry of Saint Paul’s that provides food to 150 families and individuals on odd-number months throughout the year. Volunteers are needed on Saturday\, July 17\, 9-11:30 a.m. in the east parking lot to distribute the food. Contact Melissa Friedman for more information.
URL:https://saintpauls.org/event/manna-pantry-distribution-4/
LOCATION:Saint Paul’s Church\, 605 Reynolds St.\, Augusta\, GA\, 30901\, United States
CATEGORIES:Adult,All ages,Children,Outreach,Young Adult,Youth
ATTACH;FMTTYPE=image/jpeg:https://saintpauls.org/wp-content/uploads/2021/07/IMG_0509.1-resized-square.jpg
END:VEVENT
BEGIN:VEVENT
DTSTART;TZID=America/New_York:20210711T103000
DTEND;TZID=America/New_York:20210711T104500
DTSTAMP:20260424T193313
CREATED:20210705T163517Z
LAST-MODIFIED:20210705T163517Z
UID:18532-1625999400-1626000300@saintpauls.org
SUMMARY:Second Sunday Birthday Celebration
DESCRIPTION:ALL are invited to our brief\, but joyful celebration for all whose birthdays fall in June and July\, Sunday\, July 11\, 10:30-10:45 AM\, in the churchyard. Come\, sing\, and share a cupcake with your parish family.
URL:https://saintpauls.org/event/second-sunday-birthday-celebration/
LOCATION:Churchyard
CATEGORIES:Adult,All ages,Children,Parents,Parish Life,Young Adult,Youth
ATTACH;FMTTYPE=image/png:https://saintpauls.org/wp-content/uploads/2021/07/Birthday-Sunday-square.png
END:VEVENT
BEGIN:VEVENT
DTSTART;TZID=America/New_York:20210707T100000
DTEND;TZID=America/New_York:20210707T120000
DTSTAMP:20260424T193313
CREATED:20210705T163926Z
LAST-MODIFIED:20210729T143430Z
UID:18535-1625652000-1625659200@saintpauls.org
SUMMARY:Manna Pantry Prep
DESCRIPTION:Manna Pantry is an outreach ministry of Saint Paul’s that provides food to 150 families and individuals on odd-number months throughout the year. Volunteers are needed for assembly of boxes in the air conditioning. This month\, we’ll assemble boxes for Manna Pantry separately from distribution (scheduled July 17). Contact Melissa Friedman for more information.
URL:https://saintpauls.org/event/manna-pantry-prep-3/
LOCATION:Saint Paul’s Church Tyler Hall\, 605 Reynolds St.\, Augusta\, GA\, 30901\, United States
CATEGORIES:Adult,All ages,Children,Outreach,Young Adult,Youth
ATTACH;FMTTYPE=image/jpeg:https://saintpauls.org/wp-content/uploads/2021/07/IMG_0509.1-resized-square.jpg
END:VEVENT
BEGIN:VEVENT
DTSTART;VALUE=DATE:20201003
DTEND;VALUE=DATE:20201004
DTSTAMP:20260424T193313
CREATED:20200918T215154Z
LAST-MODIFIED:20200918T215154Z
UID:15151-1601683200-1601769599@saintpauls.org
SUMMARY:Walk for Water
DESCRIPTION:Walk for Water is back! This year’s Walk for Water is now a virtual event that will impact people around the world by providing solutions that save lives. \nA virtual walk is a walk that takes place in multiple locations\, yet participants are united by one purpose. We encourage you to grab a water-carrying container\, plan a 3.5-mile route in your local community\, and walk in solidarity with those who must make this walk everyday to retrieve water for their family. \nTo join our Saint Paul’s walking team: \n\n\nJoin our “Saint Paul’s EpiscoPAIL” team\nPlan your walking route! Whether you want to walk the full 3.5 miles\, or just a lap around your neighborhood\, you can join our team!\n#ShowYourShirt and Share your walk — Take a selfie in your Walk for Water shirt and post it using the hashtag. Be sure to tag CSRA Walk for Water and Saint Paul’s Church on Facebook!The 2020 CSRA Walk for Water will bring together teams of participants from both sides of the Savannah River and from all walks of life\, as we boldly battle the global water crisis which affects 2.2 billion people around the world. Together\, we can make a difference by bringing safe water to people in need. Sign up to walk or donate by clicking the buttons below.\n\n  \n WALK \n DONATE
URL:https://saintpauls.org/event/walk-for-water-2/
LOCATION:605 Reynolds St.\, Augusta\, GA\, 30901
CATEGORIES:Adult,All ages,Children,Church on-line,Outreach,Parents,Young Adult,Youth
ATTACH;FMTTYPE=image/png:https://saintpauls.org/wp-content/uploads/2019/08/Walk-Logo_2018.png
END:VEVENT
BEGIN:VEVENT
DTSTART;TZID=America/New_York:20190416T190000
DTEND;TZID=America/New_York:20190416T200000
DTSTAMP:20260424T193313
CREATED:20190406T092539Z
LAST-MODIFIED:20190416T135227Z
UID:8043-1555441200-1555444800@saintpauls.org
SUMMARY:Pub Theology
DESCRIPTION:Join a varied group of young(ish) adults to explore some of the “big” questions around our meaning\, purpose\, and God. We hope to grow in our understanding of ourselves and God as we gather together over drinks (whether coke or ale). We welcome all faiths\, but especially focus on the Christian perspective informed by the Episcopal tradition. For more information please email John Jenkins
URL:https://saintpauls.org/event/pub-theology-18/
LOCATION:The Larder\, 85 Crystal Lake Dr\, North Augusta\, SC 29841\, USA\, 2 Crystal Lake Dr\, United States
CATEGORIES:Adult,Parish Life Groups,Young Adult
ATTACH;FMTTYPE=image/png:https://saintpauls.org/wp-content/uploads/2018/10/Pub-Theology.png
END:VEVENT
BEGIN:VEVENT
DTSTART;TZID=America/New_York:20190224T120000
DTEND;TZID=America/New_York:20190224T133000
DTSTAMP:20260424T193313
CREATED:20190130T181601Z
LAST-MODIFIED:20190130T181601Z
UID:7465-1551009600-1551015000@saintpauls.org
SUMMARY:"Share your Chili Sunday"
DESCRIPTION:February is the perfect time for a chili lunch! The Parish Life Committee invites you to bring your favorite chili to church on Sunday\, February 24\, unofficially “Share Your Chili Sunday.” We’ll meet in the River Room with friends following the 11 AM service to taste some of the best chili Saint Paul’s has to offer. Whether it is beef chili\, chicken chili\, veggie chili\, spicy or mild\, we love it all. If chili is not your specialty\, no worries\, bring a topping\, side\, or dessert. We look forward to fellowship\, food\, and fun!  Questions\, contact Todd Shafer. \nAs always we need a team to help set up\, serve\, and clean up.  Please sign up here.
URL:https://saintpauls.org/event/share-your-chili-sunday/
LOCATION:605 Reynolds St.\, Augusta\, GA\, 30901
CATEGORIES:Adult,All ages,Children,Parish Life,Young Adult,Youth
END:VEVENT
BEGIN:VEVENT
DTSTART;TZID=America/New_York:20190220T190000
DTEND;TZID=America/New_York:20190220T191500
DTSTAMP:20260424T193313
CREATED:20190130T190454Z
LAST-MODIFIED:20190130T190454Z
UID:7468-1550689200-1550690100@saintpauls.org
SUMMARY:Compline
DESCRIPTION:“The Lord Almighty\, grant us a peaceful night and a perfect end.” \nCOMPLINE – closing prayers for the day\nBring your mid-week evening to a prayerful close in a still\, candlelit sacred space with one another and God. Compline is a much beloved\, simple prayer service for the end of the day. It also may be observed in private at the end of your day and is found on p.127-135 in The Book of Common Prayer.  In the Chapel of St. Peter and St. Paul.
URL:https://saintpauls.org/event/compline-2/
LOCATION:605 Reynolds St.\, Augusta\, GA\, 30901
CATEGORIES:Adult,All ages,Spiritual Practice,Worship Services,Young Adult
END:VEVENT
BEGIN:VEVENT
DTSTART;TZID=America/New_York:20190127T190000
DTEND;TZID=America/New_York:20190127T210000
DTSTAMP:20260424T193313
CREATED:20181231T101151Z
LAST-MODIFIED:20190127T220239Z
UID:7214-1548615600-1548622800@saintpauls.org
SUMMARY:Saint Paul's YEA Gathering
DESCRIPTION:Calling all 20-30-somethings for a monthly gathering at the Bee’s Knees following Celtic Evening Prayer & Communion. (Celtic Service attendance is not a qualifier!). For more information\, email John Jenkins or Robert MacGregor.
URL:https://saintpauls.org/event/saint-pauls-yp-gathering-16/
LOCATION:The Bee’s Knees\, 211 10th St\, Augusta\, GA 30901\, USA\, 2 10th St\, United States
CATEGORIES:Adult,Parish Life Groups,Young Adult
END:VEVENT
BEGIN:VEVENT
DTSTART;TZID=America/New_York:20181223T190000
DTEND;TZID=America/New_York:20181223T210000
DTSTAMP:20260424T193313
CREATED:20181129T001659Z
LAST-MODIFIED:20181223T062400Z
UID:6910-1545591600-1545598800@saintpauls.org
SUMMARY:Saint Paul's YEA Gathering
DESCRIPTION:Calling all 20-30-something young professionals\, grad students\, and wayward souls for our monthly gathering following the Celtic service on the 4th Sunday of the month.   Contact John Jenkins for more information.
URL:https://saintpauls.org/event/saint-pauls-yp-gathering-15/
LOCATION:The Bee’s Knees\, 211 10th St\, Augusta\, GA 30901\, USA\, 2 10th St\, United States
CATEGORIES:Adult,Parish Life Groups,Young Adult
ATTACH;FMTTYPE=image/jpeg:https://saintpauls.org/wp-content/uploads/2018/11/YEA-e1544218135923.jpg
END:VEVENT
BEGIN:VEVENT
DTSTART;TZID=America/New_York:20181210T190000
DTEND;TZID=America/New_York:20181210T200000
DTSTAMP:20260424T193313
CREATED:20181111T185549Z
LAST-MODIFIED:20181210T034538Z
UID:6752-1544468400-1544472000@saintpauls.org
SUMMARY:Pub Theology
DESCRIPTION:Mark your calendars for Pub Theology Monday\, December 10\, 7 PM\, at the Pizza Joint in downtown Augusta! Join a varied group of young(ish) adults to explore some of the “big” questions around our meaning\, purpose\, and God. We hope to grow in our understanding of ourselves and God as we gather together over drinks (whether coke or ale). We welcome all faiths\, but especially focus on the Christian perspective informed by the Episcopal tradition. For more information please email John Jenkins.
URL:https://saintpauls.org/event/pub-theology-11/
LOCATION:The Pizza Joint\, 1245 Broad St\, Augusta\, GA 30901\, USA\, 31 Broad St\, United States
CATEGORIES:Adult,Christian Formation,Parish Life Groups,Young Adult
ATTACH;FMTTYPE=image/png:https://saintpauls.org/wp-content/uploads/2018/10/Pub-Theology.png
END:VEVENT
END:VCALENDAR